Workbook
Name Application: Y!$C$92:$F$95
Name Lang: Version!$R$6
Name Lang_measure: Version!$R$12
Name measure_id: Version!$R$8
Name measure_version: Version!$R$10
Name PLZ: Z!$A$2:$A$4127
Name Trad: Y!$C$2:$H$401
Name Type: Y!$C$82:$E$84
Name ZIP: Z!$G$2:$G$3182

Sheet Version
N1: Texte | O1: Texte | P1: Formeln | Q1: Formeln | R1: Parameter | S1: Parameter | T1: Format | U1: Explanation
I2: {=INDEX(Trad, N2, Lang)} -> Eidgenössisches Departement für Umwelt, Verkehr, | N2: 200
I3: {=INDEX(Trad, N3, Lang)} -> Energie und Kommunikation UVEK | N3: 201
I4: {=INDEX(Trad, N4, Lang)} -> Bundesamt für Energie BFE | N4: 202
I6: {=INDEX(Trad, N6, Lang)} -> Bitte wählen Sie die Sprache aus | L6: D | N6: 203 | R6: {=_xlfn.SWITCH(L6, "D", 1, "F", 2, "I", 3)} -> 1 | S6: Lang
B7: =IF(B12="D", 1, IF(B12="F", 2, 3)) -> 3
I8: {=INDEX(Trad, N8, $R$6)} -> Massnahme | L8: =R8 -> GG-04a | N8: 23 | R8: GG-04a | S8: measure_id | U8: Modifier en fonction de la mesure
I9: {=INDEX(Trad, N9, $R$6)} -> Version | L9: =R10 -> 1.10 (09.2026) | N9: 24 | R9: 1 | S9: measure_nbr
R10: =$Q$21&" ("&$Q$22&")" -> 1.10 (09.2026) | S10: measure_version
B12: =IF(B21="D", 1, IF(B21="F", 2, 3)) -> 3 | R12: =Lang + 3*(R9-1) -> 1 | S12: Lang_measure
B13: {=INDEX(Trad, N13, Lang)} -> Inhaltsverzeichnis | N13: 205
B15: {=INDEX(Trad, N15, Lang)} -> A. Einsparprotokoll | F15: {=INDEX(Trad, O15, $R$6)} -> legt den Anwendungsbereich und die Anforderungen für die Umsetzung der Massnahme sowie an die Nachweise fest. Es ist keine Eingabe erforderlich. | N15: 206 | O15: 208
B16: {=INDEX(Trad, N16, Lang)} -> B. Monitoringliste | F16: {=INDEX(Trad, O16, $R$6)} -> fasst die in diesem Protokoll gemeldeten Massnahmen zusammen. Alle Eingabefelder müssen für jede Massnahme ausgefüllt werden. | N16: 207 | O16: 209
B19: {=INDEX(Trad, N19, Lang)} -> Versionshistorie | N19: 210
B21: Nr. | C21: {=INDEX(Trad, N21, Lang)} -> Datum | D21: {=INDEX(Trad, O21, Lang)} -> Änderung | N21: 211 | O21: 220 | P21: {=_xlfn.XLOOKUP(TRUE, $R$22:$R$35<>"", $R$22:$R$35, , ,-1)} -> 1.1 | Q21: =TEXT(P21,"#.00") -> 1.10
B22: =IF(OR(ISBLANK(R22), P22=R22),"",R22) -> 1 | C22: =IF(OR(ISBLANK(S22), Q22=S22),"",S22) -> 45962 | D22: {=IF(ISBLANK(B22), "", INDEX(Trad, N22, Lang))} -> Erste Fassung | N22: 221 | P22: =VLOOKUP(P21, $R$22:$S$35, 2, FALSE) -> 46266 | Q22: =TEXT(Version!P22,"mm.aaaa") -> 09.2026 | R22: 1 | S22: 45962 | T22: =1 -> 1 | U22: Modifier en fonction de la version et la date de la modification (l'entrée s'affiche seulement si le texte est saisi dans Y)
B23: =IF(OR(ISBLANK(R23), R22=R23),"",R23) -> 1.1 | C23: =IF(OR(ISBLANK(S23), S22=S23),"",S23) -> 46266 | D23: {=IF(ISBLANK(INDEX(Trad, N23, Lang_measure)), "", INDEX(Trad, N23, Lang_measure))} -> Diverese Layout Anpassungen und Korrekturen von Berechnungsfehlern für den Stromverbrauch | N23: 222 | R23: 1.1 | S23: 46266 | T23: =IF(ISBLANK(R23), 1001, IF(R23<>R22, T22+1,T22)) -> 2
B24: =IF(OR(ISBLANK(R24), R23=R24),"",R24) | C24: =IF(OR(ISBLANK(S24), S23=S24),"",S24) | D24: {=IF(ISBLANK(INDEX(Trad, N24, Lang_measure)), "", INDEX(Trad, N24, Lang_measure))} | N24: 223 | T24: =IF(ISBLANK(R24), 1001, IF(R24<>R23, T23+1,T23)) -> 1001
B25: =IF(OR(ISBLANK(R25), R24=R25),"",R25) | C25: =IF(OR(ISBLANK(S25), S24=S25),"",S25) | D25: {=IF(ISBLANK(INDEX(Trad, N25, Lang_measure)), "", INDEX(Trad, N25, Lang_measure))} | N25: 224 | T25: =IF(ISBLANK(R25), 1001, IF(R25<>R24, T24+1,T24)) -> 1001
B26: =IF(OR(ISBLANK(R26), R25=R26),"",R26) | C26: =IF(OR(ISBLANK(S26), S25=S26),"",S26) | D26: {=IF(ISBLANK(INDEX(Trad, N26, Lang_measure)), "", INDEX(Trad, N26, Lang_measure))} | N26: 225 | T26: =IF(ISBLANK(R26), 1001, IF(R26<>R25, T25+1,T25)) -> 1001
B27: =IF(OR(ISBLANK(R27), R26=R27),"",R27) | C27: =IF(OR(ISBLANK(S27), S26=S27),"",S27) | D27: {=IF(ISBLANK(INDEX(Trad, N27, Lang_measure)), "", INDEX(Trad, N27, Lang_measure))} | N27: 226 | T27: =IF(ISBLANK(R27), 1001, IF(R27<>R26, T26+1,T26)) -> 1001
B28: =IF(OR(ISBLANK(R28), R27=R28),"",R28) | C28: =IF(OR(ISBLANK(S28), S27=S28),"",S28) | D28: {=IF(ISBLANK(INDEX(Trad, N28, Lang_measure)), "", INDEX(Trad, N28, Lang_measure))} | N28: 227 | T28: =IF(ISBLANK(R28), 1001, IF(R28<>R27, T27+1,T27)) -> 1001
B29: =IF(OR(ISBLANK(R29), R28=R29),"",R29) | C29: =IF(OR(ISBLANK(S29), S28=S29),"",S29) | D29: {=IF(ISBLANK(INDEX(Trad, N29, Lang_measure)), "", INDEX(Trad, N29, Lang_measure))} | N29: 228 | T29: =IF(ISBLANK(R29), 1001, IF(R29<>R28, T28+1,T28)) -> 1001
B30: =IF(OR(ISBLANK(R30), R29=R30),"",R30) | C30: =IF(OR(ISBLANK(S30), S29=S30),"",S30) | D30: {=IF(ISBLANK(INDEX(Trad, N30, Lang_measure)), "", INDEX(Trad, N30, Lang_measure))} | N30: 229 | T30: =IF(ISBLANK(R30), 1001, IF(R30<>R29, T29+1,T29)) -> 1001
B31: =IF(OR(ISBLANK(R31), R30=R31),"",R31) | C31: =IF(OR(ISBLANK(S31), S30=S31),"",S31) | D31: {=IF(ISBLANK(INDEX(Trad, N31, Lang_measure)), "", INDEX(Trad, N31, Lang_measure))} | N31: 230 | T31: =IF(ISBLANK(R31), 1001, IF(R31<>R30, T30+1,T30)) -> 1001
B32: =IF(OR(ISBLANK(R32), R31=R32),"",R32) | C32: =IF(OR(ISBLANK(S32), S31=S32),"",S32) | D32: {=IF(ISBLANK(INDEX(Trad, N32, Lang_measure)), "", INDEX(Trad, N32, Lang_measure))} | N32: 227 | T32: =IF(ISBLANK(R32), 1001, IF(R32<>R31, T31+1,T31)) -> 1001
B33: =IF(OR(ISBLANK(R33), R32=R33),"",R33) | C33: =IF(OR(ISBLANK(S33), S32=S33),"",S33) | D33: {=IF(ISBLANK(INDEX(Trad, N33, Lang_measure)), "", INDEX(Trad, N33, Lang_measure))} | N33: 228 | T33: =IF(ISBLANK(R33), 1001, IF(R33<>R32, T32+1,T32)) -> 1001
B34: =IF(OR(ISBLANK(R34), R33=R34),"",R34) | C34: =IF(OR(ISBLANK(S34), S33=S34),"",S34) | D34: {=IF(ISBLANK(INDEX(Trad, N34, Lang_measure)), "", INDEX(Trad, N34, Lang_measure))} | N34: 229 | T34: =IF(ISBLANK(R34), 1001, IF(R34<>R33, T33+1,T33)) -> 1001
B35: =IF(OR(ISBLANK(R35), R34=R35),"",R35) | C35: =IF(OR(ISBLANK(S35), S34=S35),"",S35) | D35: {=IF(ISBLANK(INDEX(Trad, N35, Lang_measure)), "", INDEX(Trad, N35, Lang_measure))} | N35: 230 | T35: =IF(ISBLANK(R35), 1001, IF(R35<>R34, T34+1,T34)) -> 1001
B41: {=INDEX(Trad, N41, Lang)} -> Disclaimer | N41: 240
B42: {=INDEX(Trad, N42, Lang)} -> Dieses Dokument dient ausschliesslich für den Nachweis der Umsetzung der erwähnten Energieeffizienzmassnahme nach Artikel 46b EnG. Die enthaltenen Angaben und Berechnungen wurden anhand von Normen, Studien und Erfahrungswerten erstellt. Dieses Einsparprotokoll kann nicht anderweitig als Beleg der effektiven Stromeinsparungen, welche durch die jeweilige Effizienzmassnahme erbracht wurden, verwendet werden. Das Bundesamt für Energie übernimmt keinerlei Gewähr für eine Verwendung ausserhalb des Nachweises der Umsetzung nach Artikel 46b EnG. | N42: 241
T51: 10
T54: 10
T57: 10
T60: 10
T63: 10
T65: 8
T67: 10
T68: 10
T70: 11
T71: 10
T73: 11
T76: 8
T78: 11

Sheet A
N1: Texte | O1: Texte | P1: Texte | Q1: Texte | R1: Texte | S1: Formeln | T1: Parameter | U1: Parameter | V1: Format | W1: Format | X1: Format | Y1: Format | Z1: Explanation
B2: {=INDEX(Trad, 204, Lang)} -> Zurück zur Übersicht
I4: {=INDEX(Trad, N4, Lang)} -> Eidgenössisches Departement für Umwelt, Verkehr, | N4: 200
I5: {=INDEX(Trad, N5, Lang)} -> Energie und Kommunikation UVEK | N5: 201
I6: {=INDEX(Trad, N6, Lang)} -> Bundesamt für Energie BFE | N6: 202
V7: Font | W7: Lines | X7: Height
B8: {=INDEX(Trad, N8, Lang)} -> Standardisierte Massnahme | N8: 101 | V8: 14
B9: {=INDEX(Trad, N9, Lang_measure)} -> Ersatz von gewerblichen Eisbereitern | N9: 150 | V9: 16
B10: {=INDEX(Trad, N10, Lang)} -> Einsparprotokoll | N10: 100
B11: {=INDEX(Trad, N11, Lang)} -> Massnahmennummer | L11: =measure_id -> GG-04a | N11: 102 | V11: 8 | W11: 1 | X11: =12.75*W11 + 2.25 -> 15
B12: {=INDEX(Trad, N12, Lang)} -> Version | L12: =measure_version -> 1.10 (09.2026) | N12: 103 | V12: 8 | W12: 1 | X12: =12.75*W12 + 2.25 -> 15
B13: {=INDEX(Trad, N13, Lang)} -> Gültig ab | K13: =IF(MONTH(Version!P22)=11, DATE(YEAR(Version!P22)+1, 1, 1), Version!P22) -> 46266 | N13: 104 | V13: 8 | W13: 1 | X13: =12.75*W13 + 2.25 -> 15
B15: {=INDEX(Trad, N15, Lang)} -> Es obliegt dem Elektrizitätslieferanten, sich jährlich rechtzeitig zu informieren, ob eine aktualisierte Version vorliegt. Das BFE publiziert allfällige aktualisierte Versionen im November. Während einer Übergangsfrist von 12 Monaten ab Gültigkeit dürfen die umgesetzten Massnahmen auch noch mit der vorgängigen Version gemeldet werden. | N15: 105 | V15: 7 | W15: 3 | X15: =11.25*W15 + 2.25 -> 36
V17: Font | W17: Lines | X17: Height
B18: {="1. " & INDEX(Trad, N18, Lang)} -> 1. Gegenstand | N18: 109 | V18: 11 | W18: - | X18: 20 | Y18: Subtitel
B19: {=INDEX(Trad, N19, Lang)} -> Anwendungsbereich | N19: 110 | V19: 10 | W19: 1 | X19: =12.75*W19 + 2.25 -> 15
B20: {=INDEX(Trad, N20, Lang_measure)} -> Elektrische, luftgekühlte Eisbereiter mit eingebautem Verflüssigungssatz und mit einer Eisproduktion unter 200 kg pro 24 Stunden für den gewerblichen Gebrauch im Anwendungsbereich der Norm EN ISO 6369:2023. Ausgeschlossen sind: - wassergekühlte Eisbereiter - Eisbereiter, die zum Einbau in Haushaltsgeräte bestimmt sind - Eisbereiter ohne eigenen Verflüssigungssatz (zentralgekühlt) | N20: 151 | V20: 10 | W20: 2 | X20: =12.75*W20 + 2.25 -> 27.75
B22: {=INDEX(Trad, N22, Lang)} -> Beschreibung | N22: 111
B23: {=INDEX(Trad, N23, Lang_measure)} -> Ersatz eines gewerblichen Eisbereiters durch ein energieeffizientes Modell. | N23: 152 | V23: 10 | W23: 2 | X23: =12.75*W23 + 2.25 -> 27.75
B24: {=INDEX(Trad, O24, Lang)} -> Wichtig: | O24: 107
B25: {=INDEX(Trad, O25, Lang)} -> 0 | N25: 112 | O25: 153 | V25: 10 | W25: 3 | X25: =12.75*W25 + 2.25 -> 40.5
B27: {="2. " & INDEX(Trad, N27, Lang)} -> 2. Anforderungen | N27: 114 | V27: 11 | W27: - | X27: 20 | Y27: Subtitel
B28: {=INDEX(Trad, N28, Lang)} -> Nur Massnahmen, welche die Anforderungen der Energieverordnung (SR 730.01; EnV) einhalten, können angerechnet werden. Die zusätzlichen Anforderungen an die technischen Eigenschaften sowie an die Umsetzung der Massnahme sind in der Tabelle 1 festgelegt. | N28: 115 | V28: 10 | W28: 3 | X28: =12.75*W28 + 2.25 -> 40.5
B30: {=INDEX(Trad, N30, Lang)} -> Tabelle 1: Anforderungen | N30: 116 | V30: 8 | W30: - | X30: 15 | Y30: Tabellentitel
E31: {=INDEX(Trad, O31, Lang)} -> Altes System | I31: {=INDEX(Trad, P31, Lang)} -> Neues System | O31: 117 | P31: 118 | V31: 10 | W31: - | X31: 20 | Y31: Subtitel
B32: {=INDEX(Trad, N32, Lang_measure)} -> 0 | E32: {=INDEX(Trad, O32, Lang_measure)} -> 0 | N32: 170 | O32: 171 | P32: 172 | V32: 10 | W32: 4 | X32: =12.75*W32 + 2.25 -> 53.25
E33: {=INDEX(Trad, O33, Lang)} -> Neues System | O33: 118 | V33: 10 | W33: - | X33: 20 | Y33: Subtitel
B34: {=INDEX(Trad, N34, Lang_measure)} -> Energieeffizienz | E34: {=INDEX(Trad, O34, Lang_measure)} -> Die neuen Eisbereiter dürfen folgende Stromverbrauchswerte nicht überschreiten, wobei zur Berechnung die Eisproduktion P des neuen Geräts gemäss EN ISO 6369:2023 in kg/24h (Ganzzahl) einzusetzen ist. | N34: 173 | O34: 174 | V34: 10 | W34: 16 | X34: =12.75*W34 + 2.25 -> 206.25
E35: {=INDEX(Trad, N35, Lang_measure)&"*"} -> Mit Eisvorratsbehälter und <80 kg/24h* | J35: 0.65 * (36.82 + P * (-0.2119)) | N35: 81 | O35: 176 | V35: 10 | W35: 2 | X35: =12.75*W35 + 2.25 -> 27.75
E36: {=INDEX(Trad, N36, Lang_measure)&"*"} -> Mit Eisvorratsbehälter und 80-199 kg/24h* | J36: 0.65 * 20.08 | N36: 82 | O36: 178 | V36: 10 | W36: 4 | X36: =12.75*W36 + 2.25 -> 53.25 | Z36: Cacher les lines non-utilisées
E37: {=INDEX(Trad, N37, Lang_measure)} -> Ohne Eisvorratsbehälter und <200 kg/24h | J37: 0.75 * (20.35 + P * (-0.0374)) | N37: 83 | O37: 180 | V37: 10 | W37: 2 | X37: =12.75*W37 + 2.25 -> 27.75
B38: {=INDEX(Trad, N38, Lang_measure)} -> 0 | E38: {=INDEX(Trad, O38, Lang_measure)} -> 0 | N38: 184 | O38: 185 | V38: 10 | W38: 2 | X38: =12.75*W38 + 2.25 -> 27.75
B39: {=INDEX(Trad, N39, Lang_measure)} -> 0 | E39: {=INDEX(Trad, O39, Lang_measure)} -> 0 | N39: 186 | O39: 187 | V39: 10 | W39: 2 | X39: =12.75*W39 + 2.25 -> 27.75
B40: {=INDEX(Trad, N40, Lang)} -> Umsetzung | E40: {=INDEX(Trad, O40, Lang)} -> Der Ersatz und die Inbetriebnahme des neuen Systems müssen durch eine qualifizierte Fachperson oder Firma durchgeführt werden. | N40: 120 | O40: 121 | V40: 10 | W40: 2 | X40: =12.75*W40 + 2.25 -> 27.75
B41: {=INDEX(Trad, N41, Lang)} -> Entsorgung | E41: {=INDEX(Trad, O41, Lang)} -> Die verbrauchsrelevanten Komponenten der alten Geräte dürfen innerhalb der Schweiz nicht weiterbetrieben werden. Die fachgerechte Entsorgung oder die Ausfuhr muss auf Anfrage nachgewiesen werden können. | N41: 122 | O41: 123 | V41: 10 | W41: 2 | X41: =12.75*W41 + 2.25 -> 27.75
B42: {=IF(LEN(INDEX(Trad, N42, Lang))>0, "* " & INDEX(Trad, N42, Lang), "")} -> * Mit werkseitig hergestelltem Eisvorratsbehälter | N42: 195 | V42: 8 | W42: - | X42: 15 | Y42: Fussnote
B44: {="3. " & INDEX(Trad, N44, Lang)} -> 3. Nachweis | N44: 125 | V44: 11 | W44: - | X44: 20 | Y44: Subtitel
B45: {=INDEX(Trad, N45, Lang)} -> Die Einhaltung der Anforderungen muss durch die folgenden Dokumente belegt werden. Die in der Tabelle 2 aufgeführten Unterlagen sind integraler Bestandteil des Nachweises der Massnahmenumsetzung. | N45: 126 | V45: 10 | W45: 2 | X45: =12.75*W45 + 2.25 -> 27.75
B47: {=INDEX(Trad, N47, Lang)} -> Tabelle 2: Nachweise | N47: 127 | V47: 8 | W47: - | X47: 15 | Y47: Tabellentitel
B49: =IF(ISNUMBER(N49), T49 & ".", "") -> 1. | C49: {=IF(ISNUMBER(N49), INDEX(Trad, N49, Lang), "")} -> Rechnungsbelege (Format PDF, PNG oder JPEG) | N49: 130 | T49: 1 | V49: 10 | W49: 3 | X49: =12.75*W49 + 2.25 -> 40.5 | Z49: Les numéros du tableau peuvent être modifiées ici. Cacher les lines non-utilisées
B52: =IF(ISNUMBER(N52), T52 & ".", "") -> 2. | C52: {=IF(ISNUMBER(N52), INDEX(Trad, N52, Lang), "")} -> Rechnungsbelege (Format PDF, PNG oder JPEG) | N52: 130 | T52: 2 | V52: 10 | W52: 3 | X52: =12.75*W52 + 2.25 -> 40.5
B55: =IF(ISNUMBER(N55), T55 & ".", "") -> 3. | C55: {=IF(LEN(INDEX(Trad, N55, Lang))>0, INDEX(Trad, N55, Lang_measure), "")} -> Erläuterung (Format PDF, max. 2 A4-Seiten), wie sichergestellt wird, dass die ersetzten Geräte fachgerecht entsorgt wurden (z. B. mittels Deklarationen, Entsorgungspositionen auf Unternehmerrechnungen, usw.). | N55: 129 | T55: 3 | V55: 10 | W55: 3 | X55: =12.75*W55 + 2.25 -> 40.5
B58: =IF(ISNUMBER(N58), T58 & ".", "") -> 4. | C58: {=IF(LEN(INDEX(Trad, N58, Lang))>0, INDEX(Trad, N58, Lang), "")} -> Rechnungsbelege (Format PDF, PNG oder JPEG) | N58: 130 | T58: 4 | V58: 10 | W58: 3 | X58: =12.75*W58 + 2.25 -> 40.5
B61: =IF(ISNUMBER(N61), T61 & ".", "") -> 5. | C61: {=IF(LEN(INDEX(Trad, N61, Lang))>0, INDEX(Trad, N61, Lang), "")} | N61: 162 | T61: 5 | V61: 10 | W61: 3 | X61: =12.75*W61 + 2.25 -> 40.5
B64: =IF(ISNUMBER(N64), T64 & ".", "") -> 6. | C64: {=IF(LEN(INDEX(Trad, N64, Lang))>0, INDEX(Trad, N64, Lang), "")} | N64: 163 | T64: 6 | V64: 10 | W64: 3 | X64: =12.75*W64 + 2.25 -> 40.5
N66: 131 | V66: 8 | W66: - | X66: 15 | Y66: Fussnote
B68: {=INDEX(Trad, N68, Lang)} -> Meldung der Massnahme | N68: 135 | T68: FALSE | V68: 10 | W68: 1 | X68: =12.75*W68 + 2.25 -> 15 | Z68: Si le premier justificatif doit être fourni lors de l'annonce : TRUE
B69: {=IF(T68, INDEX(Trad, N69, Lang) & " ", "") & INDEX(Trad, O69, Lang) & " " & T69 & " " & U69 & " " & INDEX(Trad, Q69, Lang)} -> Die Unterlagen unter Punkt 1 müssen nicht systematisch eingereicht werden, aber der Vollzugsbehörde bei einer allfälligen Kontrolle innerhalb von 30 Tagen vorgelegt werden können. | N69: 136 | O69: 137 | P69: 138 | Q69: 139 | T69: 1 | V69: 10 | W69: 3 | X69: =12.75*W69 + 2.25 -> 40.5 | Z69: Adapter en fonction des numéros des justificatifs à fournir lors d'un contrôle (i.e. tous les autres)
B71: {="4. " & INDEX(Trad, N71, Lang)} -> 4. Berechnungen | N71: 140 | V71: 11 | W71: - | X71: 20 | Y71: Subtitel
B72: {=INDEX(Trad,N72,Lang) & " " & LEFT(L11, LEN(L11) - 1) & INDEX(Trad,O72,Lang) & "."} -> Die anrechenbaren Stromeinsparungen der Massnahme werden abhängig von den festgelegten Eingabevariablen durch die Monitoringliste in Kilowattstunden berechnet. Informationen zu den Annahmen und der Berechnungsmethode sind in der zugehörigen Dokumentation GG-04 zu finden. | N72: 141 | O72: 142 | V72: 10 | W72: 4 | X72: =12.75*W72 + 2.25 -> 53.25
B74: {="5. "&INDEX(Trad,N74,Lang)} -> 5. Einsparungen | N74: 143 | V74: 11 | W74: - | X74: 20 | Y74: Subtitel
B76: {=INDEX(Trad, N76, Lang)} -> Anrechenbare Stromeinsparungen* [kWh] | H76: =ROUND(B!D17, 1) -> 0 | N76: 144
B77: {=INDEX(Trad, N77, Lang) & " " & LEFT(L11, LEN(L11) - 1) & INDEX(Trad, O77, Lang)} -> * automatisch nach der in der Dokumentation GG-04 beschriebenen Berechnungsmethode berechnet | N77: 145 | O77: 146 | V77: 8 | W77: 1 | X77: =11.25*W77 + 2.25 -> 13.5
B79: {="6. " & INDEX(Trad, N79, Lang)} -> 6. Referenz | N79: 147 | V79: 11 | W79: - | X79: 20 | Y79: Subtitel
B80: {=INDEX(Trad,N80,Lang)} -> Elektrizitätslieferant | H80: =IF(ISBLANK(B!D15), "!", B!D15) -> Beispiel Energie | N80: 148
B81: {=INDEX(Trad,N81,Lang)} -> Dateibezeichnung | H81: =IF(ISBLANK(B!D16), "-", B!D16) -> - | N81: 149

Sheet B
B1: =Lang -> 1 | C1: =Lang -> 1
B2: {=INDEX(Trad, 204, $B$1)} -> Zurück zur Übersicht
B4: {=INDEX(Trad, 1, $B$1)} -> Monitoringliste
B5: {=INDEX(Trad, 23, $B$1)} -> Massnahme | D5: =measure_id -> GG-04a
A6: § | B6: {=INDEX(Trad, 24, $B$1)} -> Version | D6: =measure_version -> 1.10 (09.2026)
B7: {=INDEX(Trad, 34, $B$1)} -> Jede Massnahme muss mit den gesamten Angaben vollständig erfasst werden (Pflichtfelder).
C8: {=INDEX(Trad, 7, $B$1)} -> Eingabefeld (obligatorisch)
C9: {=INDEX(Trad, 18, $B$1)} -> Eingabefeld (optional)
C10: {=INDEX(Trad, 17, $B$1)} -> Mehrfachauswahlfeld (obligatorisch)
C11: {=INDEX(Trad, 8, $B$1)} -> Berechnetetes Feld
C12: {=INDEX(Trad, 9, $B$1)} -> Gesperrtes Feld
C13: {=INDEX(Trad, 19, $B$1)} -> Eingabefehler
B15: {=INDEX(Trad, 27, $B$1)} -> Elektrizitätslieferant | D15: Beispiel Energie | F15: {=IF(ISBLANK(D15), INDEX(Trad, 30, $B$1),"")}
B16: {=INDEX(Trad, 28, $B$1) & "*"} -> Dateibezeichnung*
B17: {=INDEX(Trad, 26, $B$1)} -> Einsparungen (gesamte) [kWh] | D17: =SUM(T30:T1029) -> 0 | J17: {="*"& INDEX(Trad, 46, $B$1)} -> *eindeutige Identifikation, die es ermöglicht, auf einer frei zugänglichen Website die Anforderungen in Tabelle 1 zu prüfen
B18: {="* " & INDEX(Trad, 29, $B$1)} -> * Hier können Sie den unternehmensinternen Dateinamen einfügen | J18: {=INDEX(Trad, 79, $B$1)} -> ** gemäss EN ISO 6369:2023
C20: {=INDEX(Trad, 2, $C$1)} -> Standort | G20: {=INDEX(Trad, 49, $C$1)} -> Allgemeine Angaben | I20: {=INDEX(Trad, 3, $C$1)} -> Alte Anlage/Gerät | J20: {=INDEX(Trad, 4, $C$1)} -> Neue Anlage/Gerät | O20: {=INDEX(Trad, 5, $C$1)} -> Firma, welche den Ersatz durchgeführt hat | S20: {=INDEX(Trad, 26, $C$1)} -> Einsparungen (gesamte) [kWh] | V20: ALT | X20: NEU | Z20: Energieeffizienz | AD20: Eisproduktion
C21: {=INDEX(Trad, 14, $C$1)} -> Name | D21: {=INDEX(Trad, 12, $C$1)} -> Adresse | E21: {=INDEX(Trad, 15, $C$1)} -> PLZ | F21: {=INDEX(Trad, 10, $C$1)} -> Gemeinde | G21: {=INDEX(Trad, 80, $C$1)} -> Eisbereitertyp | H21: {=INDEX(Trad, 90, $C$1)} -> Einsatzbereich | I21: {=INDEX(Trad, 20, $C$1)} -> Strombedarf | J21: {=INDEX(Trad, 31, $C$1)} -> Marke/Hersteller* | K21: {=INDEX(Trad, 32, $C$1)} -> Modellkennzeichnung* | L21: {=INDEX(Trad, 77, $C$1)} -> Eisproduktion** | M21: {=INDEX(Trad, 78, $C$1)} -> Spezifischer Stromverbrauch** | N21: {=INDEX(Trad, 20, $C$1)} -> Strombedarf | O21: UID | P21: {=INDEX(Trad, 14, $C$1)} -> Name | Q21: {=INDEX(Trad, 15, $C$1)} -> PLZ | R21: {=INDEX(Trad, 10, $C$1)} -> Gemeinde | S21: {=INDEX(Trad, 16, $C$1)} -> Datum der Rechnung | T21: {=INDEX(Trad, 26, $C$1)} -> Einsparungen (gesamte) [kWh] | V21: Type | X21: Application | Y21: Type
B22: Nr. | C22: - | D22: - | E22: - | F22: - | G22: - | H22: - | I22: kWh/a | J22: - | K22: - | L22: Kg/24h | M22: kWh/100kg | N22: kWh/a | O22: - | P22: - | Q22: - | R22: - | S22: - | T22: kWh | V22: ID | W22: ealt | X22: ID | Y22: ID | Z22: Test | AA22: Max Type 1 | AB22: Max Type 2 | AC22: Max Type 3 | AD22: Min | AE22: Max
B23: {=INDEX(Trad, 99, Lang)} -> Beispiele | C23: Unternehmen 1 | D23: Ohmweg 1 | E23: 5000 | F23: =IF(ISBLANK(E23), "", VLOOKUP(E23, Z!$A$2:$C$4127, 3, FALSE)) -> Aarau | G23: Mit Eisvorratsbehälter und <80 kg/24h | H23: Detailhandel mit einer Verkaufsfläche bis 300 m2 | I23: {=IFERROR(W23/100*L23*INDEX(Application,X23,4), 0)} -> 2524.9058 | J23: XYZ Beispiel | K23: Std 1234 | L23: 47 | M23: 13.4 | N23: {=IFERROR(M23/100*L23*INDEX(Application,X23,4), 0)} -> 1259.6 | O23: CHE-123.456.789 | P23: Beispiel AG | Q23: 5000 | R23: =IF(ISBLANK(Q23), "", VLOOKUP(Q23, Z!$A$2:$C$4127, 3, FALSE)) -> Aarau | S23: 45723 | T23: =0.75*(I23-N23)*10 -> 9489.7935 | V23: =IF(ISBLANK(G23), 1, IFERROR(MATCH(G23, INDEX(Type,,1), 0), IFERROR(MATCH(G23, INDEX(Type,,2), 0), MATCH(G23, INDEX(Type,,3), 0)))) -> 1 | W23: =IF(V23=1,36.82+L23*(-0.2119),IF(V23=2,20.08,IF(V23=3,20.35+L23*(-0.0374),0))) -> 26.8607 | X23: =IF(ISBLANK(H23), 1, IFERROR(MATCH(H23, INDEX(Application,,1), 0), IFERROR(MATCH(H23, INDEX(Application,,2), 0), MATCH(H23, INDEX(Application,,3), 0)))) -> 1 | Y23: =IF(ISBLANK(G23), 1, IFERROR(MATCH(G23, INDEX(Type,,1), 0), IFERROR(MATCH(G23, INDEX(Type,,2), 0), MATCH(G23, INDEX(Type,,3), 0)))) -> 1 | Z23: =IF(Y23=1,0.65*(36.82+L23*(-0.2119)),IF(Y23=2,0.65*20.08,IF(Y23=3,0.75*(20.35+L23*(-0.0374)),0))) -> 17.459455 | AA23: =0.65*(36.82+L23*(-0.2119)) -> 17.459455 | AB23: =0.65*20.08 -> 13.052 | AC23: =0.75*(20.35+L23*(-0.0374)) -> 13.94415 | AD23: =IF(Y23=1,0,IF(Y23=2,80,IF(Y23=3,0,0))) -> 0 | AE23: =IF(Y23=1,79,IF(Y23=2,199,IF(Y23=3,199,0))) -> 79
C24: Unternehmen 2 | D24: Ohmweg 2 | E24: 3006 | F24: =IF(ISBLANK(E24), "", VLOOKUP(E24, Z!$A$2:$C$4127, 3, FALSE)) -> Bern | G24: Mit Eisvorratsbehälter und 80-199 kg/24h | H24: Gastronomie | I24: {=IFERROR(W24/100*L24*INDEX(Application,X24,4), 0)} -> 2548.152 | J24: XYZ Beispiel | K24: Std 1234 | L24: 47 | M24: 13.4 | N24: {=IFERROR(M24/100*L24*INDEX(Application,X24,4), 0)} -> 1700.46 | O24: CHE-123.456.789 | P24: Beispiel AG | Q24: 3006 | R24: =IF(ISBLANK(Q24), "", VLOOKUP(Q24, Z!$A$2:$C$4127, 3, FALSE)) -> Bern | S24: 45723 | T24: =0.75*(I24-N24)*10 -> 6357.69 | V24: =IF(ISBLANK(G24), 1, IFERROR(MATCH(G24, INDEX(Type,,1), 0), IFERROR(MATCH(G24, INDEX(Type,,2), 0), MATCH(G24, INDEX(Type,,3), 0)))) -> 2 | W24: =IF(V24=1,36.82+L24*(-0.2119),IF(V24=2,20.08,IF(V24=3,20.35+L24*(-0.0374),0))) -> 20.08 | X24: =IF(ISBLANK(H24), 1, IFERROR(MATCH(H24, INDEX(Application,,1), 0), IFERROR(MATCH(H24, INDEX(Application,,2), 0), MATCH(H24, INDEX(Application,,3), 0)))) -> 2 | Y24: =IF(ISBLANK(G24), 1, IFERROR(MATCH(G24, INDEX(Type,,1), 0), IFERROR(MATCH(G24, INDEX(Type,,2), 0), MATCH(G24, INDEX(Type,,3), 0)))) -> 2 | Z24: =IF(Y24=1,0.65*(36.82+L24*(-0.2119)),IF(Y24=2,0.65*20.08,IF(Y24=3,0.75*(20.35+L24*(-0.0374)),0))) -> 13.052 | AA24: =0.65*(36.82+L24*(-0.2119)) -> 17.459455 | AB24: =0.65*20.08 -> 13.052 | AC24: =0.75*(20.35+L24*(-0.0374)) -> 13.94415 | AD24: =IF(Y24=1,0,IF(Y24=2,80,IF(Y24=3,0,0))) -> 80 | AE24: =IF(Y24=1,79,IF(Y24=2,199,IF(Y24=3,199,0))) -> 199
C25: Unternehmen 3 | D25: Ohmweg 3 | E25: 8001 | F25: =IF(ISBLANK(E25), "", VLOOKUP(E25, Z!$A$2:$C$4127, 3, FALSE)) -> Zürich | G25: Ohne Eisvorratsbehälter und <200 kg/24h | H25: Hotellerie und Detailhandel mit einer Verkaufsfläche über 300 m2 | I25: {=IFERROR(W25/100*L25*INDEX(Application,X25,4), 0)} -> 2752.5752 | J25: XYZ Beispiel | K25: Std 1234 | L25: 47 | M25: 13.4 | N25: {=IFERROR(M25/100*L25*INDEX(Application,X25,4), 0)} -> 1983.87 | O25: CHE-123.456.789 | P25: Beispiel AG | Q25: 8001 | R25: =IF(ISBLANK(Q25), "", VLOOKUP(Q25, Z!$A$2:$C$4127, 3, FALSE)) -> Zürich | S25: 45723 | T25: =0.75*(I25-N25)*10 -> 5765.2891 | V25: =IF(ISBLANK(G25), 1, IFERROR(MATCH(G25, INDEX(Type,,1), 0), IFERROR(MATCH(G25, INDEX(Type,,2), 0), MATCH(G25, INDEX(Type,,3), 0)))) -> 3 | W25: =IF(V25=1,36.82+L25*(-0.2119),IF(V25=2,20.08,IF(V25=3,20.35+L25*(-0.0374),0))) -> 18.5922 | X25: =IF(ISBLANK(H25), 1, IFERROR(MATCH(H25, INDEX(Application,,1), 0), IFERROR(MATCH(H25, INDEX(Application,,2), 0), MATCH(H25, INDEX(Application,,3), 0)))) -> 3 | Y25: =IF(ISBLANK(G25), 1, IFERROR(MATCH(G25, INDEX(Type,,1), 0), IFERROR(MATCH(G25, INDEX(Type,,2), 0), MATCH(G25, INDEX(Type,,3), 0)))) -> 3 | Z25: =IF(Y25=1,0.65*(36.82+L25*(-0.2119)),IF(Y25=2,0.65*20.08,IF(Y25=3,0.75*(20.35+L25*(-0.0374)),0))) -> 13.94415 | AA25: =0.65*(36.82+L25*(-0.2119)) -> 17.459455 | AB25: =0.65*20.08 -> 13.052 | AC25: =0.75*(20.35+L25*(-0.0374)) -> 13.94415 | AD25: =IF(Y25=1,0,IF(Y25=2,80,IF(Y25=3,0,0))) -> 0 | AE25: =IF(Y25=1,79,IF(Y25=2,199,IF(Y25=3,199,0))) -> 199
C26: Entreprise 4 | D26: Avenue Ampère 4 | E26: 1700 | F26: =IF(ISBLANK(E26), "", VLOOKUP(E26, Z!$A$2:$C$4127, 3, FALSE)) -> Fribourg | G26: Avec bac de stockage et <80 kg/24h | H26: Santé et bien-être | I26: {=IFERROR(W26/100*L26*INDEX(Application,X26,4), 0)} -> 4418.5852 | J26: ABC Exemple | K26: ICE 2050 | L26: 47 | M26: 13.4 | N26: {=IFERROR(M26/100*L26*INDEX(Application,X26,4), 0)} -> 2204.3 | O26: CHE-987.654.321 | P26: Exemple SA | Q26: 1700 | R26: =IF(ISBLANK(Q26), "", VLOOKUP(Q26, Z!$A$2:$C$4127, 3, FALSE)) -> Fribourg | S26: 45940 | T26: =0.75*(I26-N26)*10 -> 16607.139 | V26: =IF(ISBLANK(G26), 1, IFERROR(MATCH(G26, INDEX(Type,,1), 0), IFERROR(MATCH(G26, INDEX(Type,,2), 0), MATCH(G26, INDEX(Type,,3), 0)))) -> 1 | W26: =IF(V26=1,36.82+L26*(-0.2119),IF(V26=2,20.08,IF(V26=3,20.35+L26*(-0.0374),0))) -> 26.8607 | X26: =IF(ISBLANK(H26), 1, IFERROR(MATCH(H26, INDEX(Application,,1), 0), IFERROR(MATCH(H26, INDEX(Application,,2), 0), MATCH(H26, INDEX(Application,,3), 0)))) -> 4 | Y26: =IF(ISBLANK(G26), 1, IFERROR(MATCH(G26, INDEX(Type,,1), 0), IFERROR(MATCH(G26, INDEX(Type,,2), 0), MATCH(G26, INDEX(Type,,3), 0)))) -> 1 | Z26: =IF(Y26=1,0.65*(36.82+L26*(-0.2119)),IF(Y26=2,0.65*20.08,IF(Y26=3,0.75*(20.35+L26*(-0.0374)),0))) -> 17.459455 | AA26: =0.65*(36.82+L26*(-0.2119)) -> 17.459455 | AB26: =0.65*20.08 -> 13.052 | AC26: =0.75*(20.35+L26*(-0.0374)) -> 13.94415 | AD26: =IF(Y26=1,0,IF(Y26=2,80,IF(Y26=3,0,0))) -> 0 | AE26: =IF(Y26=1,79,IF(Y26=2,199,IF(Y26=3,199,0))) -> 79
C27: Entreprise 5 | D27: Avenue Ampère 5 | E27: 1006 | F27: =IF(ISBLANK(E27), "", VLOOKUP(E27, Z!$A$2:$C$4127, 3, FALSE)) -> Lausanne | G27: Avec bac de stockage et 80-199 kg/24h | H27: Commerce de détail avec une surface de vente jusqu'à 300 m² | I27: {=IFERROR(W27/100*L27*INDEX(Application,X27,4), 0)} -> 3252.96 | J27: ABC Exemple | K27: ICE 2050 | L27: 81 | M27: 13 | N27: {=IFERROR(M27/100*L27*INDEX(Application,X27,4), 0)} -> 2106 | O27: CHE-987.654.321 | P27: Exemple SA | Q27: 1006 | R27: =IF(ISBLANK(Q27), "", VLOOKUP(Q27, Z!$A$2:$C$4127, 3, FALSE)) -> Lausanne | S27: 45940 | T27: =0.75*(I27-N27)*10 -> 8602.2 | V27: =IF(ISBLANK(G27), 1, IFERROR(MATCH(G27, INDEX(Type,,1), 0), IFERROR(MATCH(G27, INDEX(Type,,2), 0), MATCH(G27, INDEX(Type,,3), 0)))) -> 2 | W27: =IF(V27=1,36.82+L27*(-0.2119),IF(V27=2,20.08,IF(V27=3,20.35+L27*(-0.0374),0))) -> 20.08 | X27: =IF(ISBLANK(H27), 1, IFERROR(MATCH(H27, INDEX(Application,,1), 0), IFERROR(MATCH(H27, INDEX(Application,,2), 0), MATCH(H27, INDEX(Application,,3), 0)))) -> 1 | Y27: =IF(ISBLANK(G27), 1, IFERROR(MATCH(G27, INDEX(Type,,1), 0), IFERROR(MATCH(G27, INDEX(Type,,2), 0), MATCH(G27, INDEX(Type,,3), 0)))) -> 2 | Z27: =IF(Y27=1,0.65*(36.82+L27*(-0.2119)),IF(Y27=2,0.65*20.08,IF(Y27=3,0.75*(20.35+L27*(-0.0374)),0))) -> 13.052 | AA27: =0.65*(36.82+L27*(-0.2119)) -> 12.776465 | AB27: =0.65*20.08 -> 13.052 | AC27: =0.75*(20.35+L27*(-0.0374)) -> 12.99045 | AD27: =IF(Y27=1,0,IF(Y27=2,80,IF(Y27=3,0,0))) -> 80 | AE27: =IF(Y27=1,79,IF(Y27=2,199,IF(Y27=3,199,0))) -> 199
C28: Impresa 1 | D28: Via Volta 6 | E28: 6984 | F28: =IF(ISBLANK(E28), "", VLOOKUP(E28, Z!$A$2:$C$4127, 3, FALSE)) -> Pura | G28: Con contenitore di stoccaggio e capacità <80 kg/24h | H28: Sanità e wellness | I28: {=IFERROR(W28/100*L28*INDEX(Application,X28,4), 0)} -> 4418.5852 | J28: MNO Esempio | K28: New GEN 6789 | L28: 47 | M28: 13 | N28: {=IFERROR(M28/100*L28*INDEX(Application,X28,4), 0)} -> 2138.5 | O28: CHE-123.456.789 | P28: Esempio SA | Q28: 6984 | R28: =IF(ISBLANK(Q28), "", VLOOKUP(Q28, Z!$A$2:$C$4127, 3, FALSE)) -> Pura | S28: 46004 | T28: =0.75*(I28-N28)*10 -> 17100.639 | V28: =IF(ISBLANK(G28), 1, IFERROR(MATCH(G28, INDEX(Type,,1), 0), IFERROR(MATCH(G28, INDEX(Type,,2), 0), MATCH(G28, INDEX(Type,,3), 0)))) -> 1 | W28: =IF(V28=1,36.82+L28*(-0.2119),IF(V28=2,20.08,IF(V28=3,20.35+L28*(-0.0374),0))) -> 26.8607 | X28: =IF(ISBLANK(H28), 1, IFERROR(MATCH(H28, INDEX(Application,,1), 0), IFERROR(MATCH(H28, INDEX(Application,,2), 0), MATCH(H28, INDEX(Application,,3), 0)))) -> 4 | Y28: =IF(ISBLANK(G28), 1, IFERROR(MATCH(G28, INDEX(Type,,1), 0), IFERROR(MATCH(G28, INDEX(Type,,2), 0), MATCH(G28, INDEX(Type,,3), 0)))) -> 1 | Z28: =IF(Y28=1,0.65*(36.82+L28*(-0.2119)),IF(Y28=2,0.65*20.08,IF(Y28=3,0.75*(20.35+L28*(-0.0374)),0))) -> 17.459455 | AA28: =0.65*(36.82+L28*(-0.2119)) -> 17.459455 | AB28: =0.65*20.08 -> 13.052 | AC28: =0.75*(20.35+L28*(-0.0374)) -> 13.94415 | AD28: =IF(Y28=1,0,IF(Y28=2,80,IF(Y28=3,0,0))) -> 0 | AE28: =IF(Y28=1,79,IF(Y28=2,199,IF(Y28=3,199,0))) -> 79
B30: 1 | F30: =IF(ISBLANK(E30), "", VLOOKUP(E30, Z!$A$2:$C$4127, 3, FALSE)) | I30: {=IFERROR(W30/100*L30*INDEX(Application,X30,4), 0)} -> 0 | N30: {=IFERROR(M30/100*L30*INDEX(Application,X30,4), 0)} -> 0 | R30: =IF(ISBLANK(Q30), "", VLOOKUP(Q30, Z!$A$2:$C$4127, 3, FALSE)) | T30: =0.75*(I30-N30)*10 -> 0 | V30: =IF(ISBLANK(G30), 1, IFERROR(MATCH(G30, INDEX(Type,,1), 0), IFERROR(MATCH(G30, INDEX(Type,,2), 0), MATCH(G30, INDEX(Type,,3), 0)))) -> 1 | W30: =IF(V30=1,36.82+L30*(-0.2119),IF(V30=2,20.08,IF(V30=3,20.35+L30*(-0.0374),0))) -> 36.82 | X30: =IF(ISBLANK(H30), 1, IFERROR(MATCH(H30, INDEX(Application,,1), 0), IFERROR(MATCH(H30, INDEX(Application,,2), 0), MATCH(H30, INDEX(Application,,3), 0)))) -> 1 | Y30: =IF(ISBLANK(G30), 1, IFERROR(MATCH(G30, INDEX(Type,,1), 0), IFERROR(MATCH(G30, INDEX(Type,,2), 0), MATCH(G30, INDEX(Type,,3), 0)))) -> 1 | Z30: =IF(Y30=1,0.65*(36.82+L30*(-0.2119)),IF(Y30=2,0.65*20.08,IF(Y30=3,0.75*(20.35+L30*(-0.0374)),0))) -> 23.933 | AA30: =0.65*(36.82+L30*(-0.2119)) -> 23.933 | AB30: =0.65*20.08 -> 13.052 | AC30: =0.75*(20.35+L30*(-0.0374)) -> 15.2625 | AD30: =IF(Y30=1,0,IF(Y30=2,80,IF(Y30=3,0,0))) -> 0 | AE30: =IF(Y30=1,79,IF(Y30=2,199,IF(Y30=3,199,0))) -> 79
B31: 2 | F31: =IF(ISBLANK(E31), "", VLOOKUP(E31, Z!$A$2:$C$4127, 3, FALSE)) | I31: {=IFERROR(W31/100*L31*INDEX(Application,X31,4), 0)} -> 0 | N31: {=IFERROR(M31/100*L31*INDEX(Application,X31,4), 0)} -> 0 | R31: =IF(ISBLANK(Q31), "", VLOOKUP(Q31, Z!$A$2:$C$4127, 3, FALSE)) | T31: =0.75*(I31-N31)*10 -> 0 | V31: =IF(ISBLANK(G31), 1, IFERROR(MATCH(G31, INDEX(Type,,1), 0), IFERROR(MATCH(G31, INDEX(Type,,2), 0), MATCH(G31, INDEX(Type,,3), 0)))) -> 1 | W31: =IF(V31=1,36.82+L31*(-0.2119),IF(V31=2,20.08,IF(V31=3,20.35+L31*(-0.0374),0))) -> 36.82 | X31: =IF(ISBLANK(H31), 1, IFERROR(MATCH(H31, INDEX(Application,,1), 0), IFERROR(MATCH(H31, INDEX(Application,,2), 0), MATCH(H31, INDEX(Application,,3), 0)))) -> 1 | Y31: =IF(ISBLANK(G31), 1, IFERROR(MATCH(G31, INDEX(Type,,1), 0), IFERROR(MATCH(G31, INDEX(Type,,2), 0), MATCH(G31, INDEX(Type,,3), 0)))) -> 1 | Z31: =IF(Y31=1,0.65*(36.82+L31*(-0.2119)),IF(Y31=2,0.65*20.08,IF(Y31=3,0.75*(20.35+L31*(-0.0374)),0))) -> 23.933 | AA31: =0.65*(36.82+L31*(-0.2119)) -> 23.933 | AB31: =0.65*20.08 -> 13.052 | AC31: =0.75*(20.35+L31*(-0.0374)) -> 15.2625 | AD31: =IF(Y31=1,0,IF(Y31=2,80,IF(Y31=3,0,0))) -> 0 | AE31: =IF(Y31=1,79,IF(Y31=2,199,IF(Y31=3,199,0))) -> 79
B32: 3 | F32: =IF(ISBLANK(E32), "", VLOOKUP(E32, Z!$A$2:$C$4127, 3, FALSE)) | I32: {=IFERROR(W32/100*L32*INDEX(Application,X32,4), 0)} -> 0 | N32: {=IFERROR(M32/100*L32*INDEX(Application,X32,4), 0)} -> 0 | R32: =IF(ISBLANK(Q32), "", VLOOKUP(Q32, Z!$A$2:$C$4127, 3, FALSE)) | T32: =0.75*(I32-N32)*10 -> 0 | V32: =IF(ISBLANK(G32), 1, IFERROR(MATCH(G32, INDEX(Type,,1), 0), IFERROR(MATCH(G32, INDEX(Type,,2), 0), MATCH(G32, INDEX(Type,,3), 0)))) -> 1 | W32: =IF(V32=1,36.82+L32*(-0.2119),IF(V32=2,20.08,IF(V32=3,20.35+L32*(-0.0374),0))) -> 36.82 | X32: =IF(ISBLANK(H32), 1, IFERROR(MATCH(H32, INDEX(Application,,1), 0), IFERROR(MATCH(H32, INDEX(Application,,2), 0), MATCH(H32, INDEX(Application,,3), 0)))) -> 1 | Y32: =IF(ISBLANK(G32), 1, IFERROR(MATCH(G32, INDEX(Type,,1), 0), IFERROR(MATCH(G32, INDEX(Type,,2), 0), MATCH(G32, INDEX(Type,,3), 0)))) -> 1 | Z32: =IF(Y32=1,0.65*(36.82+L32*(-0.2119)),IF(Y32=2,0.65*20.08,IF(Y32=3,0.75*(20.35+L32*(-0.0374)),0))) -> 23.933 | AA32: =0.65*(36.82+L32*(-0.2119)) -> 23.933 | AB32: =0.65*20.08 -> 13.052 | AC32: =0.75*(20.35+L32*(-0.0374)) -> 15.2625 | AD32: =IF(Y32=1,0,IF(Y32=2,80,IF(Y32=3,0,0))) -> 0 | AE32: =IF(Y32=1,79,IF(Y32=2,199,IF(Y32=3,199,0))) -> 79
B33: 4 | F33: =IF(ISBLANK(E33), "", VLOOKUP(E33, Z!$A$2:$C$4127, 3, FALSE)) | I33: {=IFERROR(W33/100*L33*INDEX(Application,X33,4), 0)} -> 0 | N33: {=IFERROR(M33/100*L33*INDEX(Application,X33,4), 0)} -> 0 | R33: =IF(ISBLANK(Q33), "", VLOOKUP(Q33, Z!$A$2:$C$4127, 3, FALSE)) | T33: =0.75*(I33-N33)*10 -> 0 | V33: =IF(ISBLANK(G33), 1, IFERROR(MATCH(G33, INDEX(Type,,1), 0), IFERROR(MATCH(G33, INDEX(Type,,2), 0), MATCH(G33, INDEX(Type,,3), 0)))) -> 1 | W33: =IF(V33=1,36.82+L33*(-0.2119),IF(V33=2,20.08,IF(V33=3,20.35+L33*(-0.0374),0))) -> 36.82 | X33: =IF(ISBLANK(H33), 1, IFERROR(MATCH(H33, INDEX(Application,,1), 0), IFERROR(MATCH(H33, INDEX(Application,,2), 0), MATCH(H33, INDEX(Application,,3), 0)))) -> 1 | Y33: =IF(ISBLANK(G33), 1, IFERROR(MATCH(G33, INDEX(Type,,1), 0), IFERROR(MATCH(G33, INDEX(Type,,2), 0), MATCH(G33, INDEX(Type,,3), 0)))) -> 1 | Z33: =IF(Y33=1,0.65*(36.82+L33*(-0.2119)),IF(Y33=2,0.65*20.08,IF(Y33=3,0.75*(20.35+L33*(-0.0374)),0))) -> 23.933 | AA33: =0.65*(36.82+L33*(-0.2119)) -> 23.933 | AB33: =0.65*20.08 -> 13.052 | AC33: =0.75*(20.35+L33*(-0.0374)) -> 15.2625 | AD33: =IF(Y33=1,0,IF(Y33=2,80,IF(Y33=3,0,0))) -> 0 | AE33: =IF(Y33=1,79,IF(Y33=2,199,IF(Y33=3,199,0))) -> 79
B34: 5 | F34: =IF(ISBLANK(E34), "", VLOOKUP(E34, Z!$A$2:$C$4127, 3, FALSE)) | I34: {=IFERROR(W34/100*L34*INDEX(Application,X34,4), 0)} -> 0 | N34: {=IFERROR(M34/100*L34*INDEX(Application,X34,4), 0)} -> 0 | R34: =IF(ISBLANK(Q34), "", VLOOKUP(Q34, Z!$A$2:$C$4127, 3, FALSE)) | T34: =0.75*(I34-N34)*10 -> 0 | V34: =IF(ISBLANK(G34), 1, IFERROR(MATCH(G34, INDEX(Type,,1), 0), IFERROR(MATCH(G34, INDEX(Type,,2), 0), MATCH(G34, INDEX(Type,,3), 0)))) -> 1 | W34: =IF(V34=1,36.82+L34*(-0.2119),IF(V34=2,20.08,IF(V34=3,20.35+L34*(-0.0374),0))) -> 36.82 | X34: =IF(ISBLANK(H34), 1, IFERROR(MATCH(H34, INDEX(Application,,1), 0), IFERROR(MATCH(H34, INDEX(Application,,2), 0), MATCH(H34, INDEX(Application,,3), 0)))) -> 1 | Y34: =IF(ISBLANK(G34), 1, IFERROR(MATCH(G34, INDEX(Type,,1), 0), IFERROR(MATCH(G34, INDEX(Type,,2), 0), MATCH(G34, INDEX(Type,,3), 0)))) -> 1 | Z34: =IF(Y34=1,0.65*(36.82+L34*(-0.2119)),IF(Y34=2,0.65*20.08,IF(Y34=3,0.75*(20.35+L34*(-0.0374)),0))) -> 23.933 | AA34: =0.65*(36.82+L34*(-0.2119)) -> 23.933 | AB34: =0.65*20.08 -> 13.052 | AC34: =0.75*(20.35+L34*(-0.0374)) -> 15.2625 | AD34: =IF(Y34=1,0,IF(Y34=2,80,IF(Y34=3,0,0))) -> 0 | AE34: =IF(Y34=1,79,IF(Y34=2,199,IF(Y34=3,199,0))) -> 79
B35: 6 | F35: =IF(ISBLANK(E35), "", VLOOKUP(E35, Z!$A$2:$C$4127, 3, FALSE)) | I35: {=IFERROR(W35/100*L35*INDEX(Application,X35,4), 0)} -> 0 | N35: {=IFERROR(M35/100*L35*INDEX(Application,X35,4), 0)} -> 0 | R35: =IF(ISBLANK(Q35), "", VLOOKUP(Q35, Z!$A$2:$C$4127, 3, FALSE)) | T35: =0.75*(I35-N35)*10 -> 0 | V35: =IF(ISBLANK(G35), 1, IFERROR(MATCH(G35, INDEX(Type,,1), 0), IFERROR(MATCH(G35, INDEX(Type,,2), 0), MATCH(G35, INDEX(Type,,3), 0)))) -> 1 | W35: =IF(V35=1,36.82+L35*(-0.2119),IF(V35=2,20.08,IF(V35=3,20.35+L35*(-0.0374),0))) -> 36.82 | X35: =IF(ISBLANK(H35), 1, IFERROR(MATCH(H35, INDEX(Application,,1), 0), IFERROR(MATCH(H35, INDEX(Application,,2), 0), MATCH(H35, INDEX(Application,,3), 0)))) -> 1 | Y35: =IF(ISBLANK(G35), 1, IFERROR(MATCH(G35, INDEX(Type,,1), 0), IFERROR(MATCH(G35, INDEX(Type,,2), 0), MATCH(G35, INDEX(Type,,3), 0)))) -> 1 | Z35: =IF(Y35=1,0.65*(36.82+L35*(-0.2119)),IF(Y35=2,0.65*20.08,IF(Y35=3,0.75*(20.35+L35*(-0.0374)),0))) -> 23.933 | AA35: =0.65*(36.82+L35*(-0.2119)) -> 23.933 | AB35: =0.65*20.08 -> 13.052 | AC35: =0.75*(20.35+L35*(-0.0374)) -> 15.2625 | AD35: =IF(Y35=1,0,IF(Y35=2,80,IF(Y35=3,0,0))) -> 0 | AE35: =IF(Y35=1,79,IF(Y35=2,199,IF(Y35=3,199,0))) -> 79
B36: 7 | F36: =IF(ISBLANK(E36), "", VLOOKUP(E36, Z!$A$2:$C$4127, 3, FALSE)) | I36: {=IFERROR(W36/100*L36*INDEX(Application,X36,4), 0)} -> 0 | N36: {=IFERROR(M36/100*L36*INDEX(Application,X36,4), 0)} -> 0 | R36: =IF(ISBLANK(Q36), "", VLOOKUP(Q36, Z!$A$2:$C$4127, 3, FALSE)) | T36: =0.75*(I36-N36)*10 -> 0 | V36: =IF(ISBLANK(G36), 1, IFERROR(MATCH(G36, INDEX(Type,,1), 0), IFERROR(MATCH(G36, INDEX(Type,,2), 0), MATCH(G36, INDEX(Type,,3), 0)))) -> 1 | W36: =IF(V36=1,36.82+L36*(-0.2119),IF(V36=2,20.08,IF(V36=3,20.35+L36*(-0.0374),0))) -> 36.82 | X36: =IF(ISBLANK(H36), 1, IFERROR(MATCH(H36, INDEX(Application,,1), 0), IFERROR(MATCH(H36, INDEX(Application,,2), 0), MATCH(H36, INDEX(Application,,3), 0)))) -> 1 | Y36: =IF(ISBLANK(G36), 1, IFERROR(MATCH(G36, INDEX(Type,,1), 0), IFERROR(MATCH(G36, INDEX(Type,,2), 0), MATCH(G36, INDEX(Type,,3), 0)))) -> 1 | Z36: =IF(Y36=1,0.65*(36.82+L36*(-0.2119)),IF(Y36=2,0.65*20.08,IF(Y36=3,0.75*(20.35+L36*(-0.0374)),0))) -> 23.933 | AA36: =0.65*(36.82+L36*(-0.2119)) -> 23.933 | AB36: =0.65*20.08 -> 13.052 | AC36: =0.75*(20.35+L36*(-0.0374)) -> 15.2625 | AD36: =IF(Y36=1,0,IF(Y36=2,80,IF(Y36=3,0,0))) -> 0 | AE36: =IF(Y36=1,79,IF(Y36=2,199,IF(Y36=3,199,0))) -> 79
B37: 8 | F37: =IF(ISBLANK(E37), "", VLOOKUP(E37, Z!$A$2:$C$4127, 3, FALSE)) | I37: {=IFERROR(W37/100*L37*INDEX(Application,X37,4), 0)} -> 0 | N37: {=IFERROR(M37/100*L37*INDEX(Application,X37,4), 0)} -> 0 | R37: =IF(ISBLANK(Q37), "", VLOOKUP(Q37, Z!$A$2:$C$4127, 3, FALSE)) | T37: =0.75*(I37-N37)*10 -> 0 | V37: =IF(ISBLANK(G37), 1, IFERROR(MATCH(G37, INDEX(Type,,1), 0), IFERROR(MATCH(G37, INDEX(Type,,2), 0), MATCH(G37, INDEX(Type,,3), 0)))) -> 1 | W37: =IF(V37=1,36.82+L37*(-0.2119),IF(V37=2,20.08,IF(V37=3,20.35+L37*(-0.0374),0))) -> 36.82 | X37: =IF(ISBLANK(H37), 1, IFERROR(MATCH(H37, INDEX(Application,,1), 0), IFERROR(MATCH(H37, INDEX(Application,,2), 0), MATCH(H37, INDEX(Application,,3), 0)))) -> 1 | Y37: =IF(ISBLANK(G37), 1, IFERROR(MATCH(G37, INDEX(Type,,1), 0), IFERROR(MATCH(G37, INDEX(Type,,2), 0), MATCH(G37, INDEX(Type,,3), 0)))) -> 1 | Z37: =IF(Y37=1,0.65*(36.82+L37*(-0.2119)),IF(Y37=2,0.65*20.08,IF(Y37=3,0.75*(20.35+L37*(-0.0374)),0))) -> 23.933 | AA37: =0.65*(36.82+L37*(-0.2119)) -> 23.933 | AB37: =0.65*20.08 -> 13.052 | AC37: =0.75*(20.35+L37*(-0.0374)) -> 15.2625 | AD37: =IF(Y37=1,0,IF(Y37=2,80,IF(Y37=3,0,0))) -> 0 | AE37: =IF(Y37=1,79,IF(Y37=2,199,IF(Y37=3,199,0))) -> 79
B38: 9 | F38: =IF(ISBLANK(E38), "", VLOOKUP(E38, Z!$A$2:$C$4127, 3, FALSE)) | I38: {=IFERROR(W38/100*L38*INDEX(Application,X38,4), 0)} -> 0 | N38: {=IFERROR(M38/100*L38*INDEX(Application,X38,4), 0)} -> 0 | R38: =IF(ISBLANK(Q38), "", VLOOKUP(Q38, Z!$A$2:$C$4127, 3, FALSE)) | T38: =0.75*(I38-N38)*10 -> 0 | V38: =IF(ISBLANK(G38), 1, IFERROR(MATCH(G38, INDEX(Type,,1), 0), IFERROR(MATCH(G38, INDEX(Type,,2), 0), MATCH(G38, INDEX(Type,,3), 0)))) -> 1 | W38: =IF(V38=1,36.82+L38*(-0.2119),IF(V38=2,20.08,IF(V38=3,20.35+L38*(-0.0374),0))) -> 36.82 | X38: =IF(ISBLANK(H38), 1, IFERROR(MATCH(H38, INDEX(Application,,1), 0), IFERROR(MATCH(H38, INDEX(Application,,2), 0), MATCH(H38, INDEX(Application,,3), 0)))) -> 1 | Y38: =IF(ISBLANK(G38), 1, IFERROR(MATCH(G38, INDEX(Type,,1), 0), IFERROR(MATCH(G38, INDEX(Type,,2), 0), MATCH(G38, INDEX(Type,,3), 0)))) -> 1 | Z38: =IF(Y38=1,0.65*(36.82+L38*(-0.2119)),IF(Y38=2,0.65*20.08,IF(Y38=3,0.75*(20.35+L38*(-0.0374)),0))) -> 23.933 | AA38: =0.65*(36.82+L38*(-0.2119)) -> 23.933 | AB38: =0.65*20.08 -> 13.052 | AC38: =0.75*(20.35+L38*(-0.0374)) -> 15.2625 | AD38: =IF(Y38=1,0,IF(Y38=2,80,IF(Y38=3,0,0))) -> 0 | AE38: =IF(Y38=1,79,IF(Y38=2,199,IF(Y38=3,199,0))) -> 79
B39: 10 | F39: =IF(ISBLANK(E39), "", VLOOKUP(E39, Z!$A$2:$C$4127, 3, FALSE)) | I39: {=IFERROR(W39/100*L39*INDEX(Application,X39,4), 0)} -> 0 | N39: {=IFERROR(M39/100*L39*INDEX(Application,X39,4), 0)} -> 0 | R39: =IF(ISBLANK(Q39), "", VLOOKUP(Q39, Z!$A$2:$C$4127, 3, FALSE)) | T39: =0.75*(I39-N39)*10 -> 0 | V39: =IF(ISBLANK(G39), 1, IFERROR(MATCH(G39, INDEX(Type,,1), 0), IFERROR(MATCH(G39, INDEX(Type,,2), 0), MATCH(G39, INDEX(Type,,3), 0)))) -> 1 | W39: =IF(V39=1,36.82+L39*(-0.2119),IF(V39=2,20.08,IF(V39=3,20.35+L39*(-0.0374),0))) -> 36.82 | X39: =IF(ISBLANK(H39), 1, IFERROR(MATCH(H39, INDEX(Application,,1), 0), IFERROR(MATCH(H39, INDEX(Application,,2), 0), MATCH(H39, INDEX(Application,,3), 0)))) -> 1 | Y39: =IF(ISBLANK(G39), 1, IFERROR(MATCH(G39, INDEX(Type,,1), 0), IFERROR(MATCH(G39, INDEX(Type,,2), 0), MATCH(G39, INDEX(Type,,3), 0)))) -> 1 | Z39: =IF(Y39=1,0.65*(36.82+L39*(-0.2119)),IF(Y39=2,0.65*20.08,IF(Y39=3,0.75*(20.35+L39*(-0.0374)),0))) -> 23.933 | AA39: =0.65*(36.82+L39*(-0.2119)) -> 23.933 | AB39: =0.65*20.08 -> 13.052 | AC39: =0.75*(20.35+L39*(-0.0374)) -> 15.2625 | AD39: =IF(Y39=1,0,IF(Y39=2,80,IF(Y39=3,0,0))) -> 0 | AE39: =IF(Y39=1,79,IF(Y39=2,199,IF(Y39=3,199,0))) -> 79
B40: 11 | F40: =IF(ISBLANK(E40), "", VLOOKUP(E40, Z!$A$2:$C$4127, 3, FALSE)) | I40: {=IFERROR(W40/100*L40*INDEX(Application,X40,4), 0)} -> 0 | N40: {=IFERROR(M40/100*L40*INDEX(Application,X40,4), 0)} -> 0 | R40: =IF(ISBLANK(Q40), "", VLOOKUP(Q40, Z!$A$2:$C$4127, 3, FALSE)) | T40: =0.75*(I40-N40)*10 -> 0 | V40: =IF(ISBLANK(G40), 1, IFERROR(MATCH(G40, INDEX(Type,,1), 0), IFERROR(MATCH(G40, INDEX(Type,,2), 0), MATCH(G40, INDEX(Type,,3), 0)))) -> 1 | W40: =IF(V40=1,36.82+L40*(-0.2119),IF(V40=2,20.08,IF(V40=3,20.35+L40*(-0.0374),0))) -> 36.82 | X40: =IF(ISBLANK(H40), 1, IFERROR(MATCH(H40, INDEX(Application,,1), 0), IFERROR(MATCH(H40, INDEX(Application,,2), 0), MATCH(H40, INDEX(Application,,3), 0)))) -> 1 | Y40: =IF(ISBLANK(G40), 1, IFERROR(MATCH(G40, INDEX(Type,,1), 0), IFERROR(MATCH(G40, INDEX(Type,,2), 0), MATCH(G40, INDEX(Type,,3), 0)))) -> 1 | Z40: =IF(Y40=1,0.65*(36.82+L40*(-0.2119)),IF(Y40=2,0.65*20.08,IF(Y40=3,0.75*(20.35+L40*(-0.0374)),0))) -> 23.933 | AA40: =0.65*(36.82+L40*(-0.2119)) -> 23.933 | AB40: =0.65*20.08 -> 13.052 | AC40: =0.75*(20.35+L40*(-0.0374)) -> 15.2625 | AD40: =IF(Y40=1,0,IF(Y40=2,80,IF(Y40=3,0,0))) -> 0 | AE40: =IF(Y40=1,79,IF(Y40=2,199,IF(Y40=3,199,0))) -> 79
B41: 12 | F41: =IF(ISBLANK(E41), "", VLOOKUP(E41, Z!$A$2:$C$4127, 3, FALSE)) | I41: {=IFERROR(W41/100*L41*INDEX(Application,X41,4), 0)} -> 0 | N41: {=IFERROR(M41/100*L41*INDEX(Application,X41,4), 0)} -> 0 | R41: =IF(ISBLANK(Q41), "", VLOOKUP(Q41, Z!$A$2:$C$4127, 3, FALSE)) | T41: =0.75*(I41-N41)*10 -> 0 | V41: =IF(ISBLANK(G41), 1, IFERROR(MATCH(G41, INDEX(Type,,1), 0), IFERROR(MATCH(G41, INDEX(Type,,2), 0), MATCH(G41, INDEX(Type,,3), 0)))) -> 1 | W41: =IF(V41=1,36.82+L41*(-0.2119),IF(V41=2,20.08,IF(V41=3,20.35+L41*(-0.0374),0))) -> 36.82 | X41: =IF(ISBLANK(H41), 1, IFERROR(MATCH(H41, INDEX(Application,,1), 0), IFERROR(MATCH(H41, INDEX(Application,,2), 0), MATCH(H41, INDEX(Application,,3), 0)))) -> 1 | Y41: =IF(ISBLANK(G41), 1, IFERROR(MATCH(G41, INDEX(Type,,1), 0), IFERROR(MATCH(G41, INDEX(Type,,2), 0), MATCH(G41, INDEX(Type,,3), 0)))) -> 1 | Z41: =IF(Y41=1,0.65*(36.82+L41*(-0.2119)),IF(Y41=2,0.65*20.08,IF(Y41=3,0.75*(20.35+L41*(-0.0374)),0))) -> 23.933 | AA41: =0.65*(36.82+L41*(-0.2119)) -> 23.933 | AB41: =0.65*20.08 -> 13.052 | AC41: =0.75*(20.35+L41*(-0.0374)) -> 15.2625 | AD41: =IF(Y41=1,0,IF(Y41=2,80,IF(Y41=3,0,0))) -> 0 | AE41: =IF(Y41=1,79,IF(Y41=2,199,IF(Y41=3,199,0))) -> 79
... B1029: 1000 | F1029: =IF(ISBLANK(E1029), "", VLOOKUP(E1029, Z!$A$2:$C$4127, 3, FALSE)) | I1029: {=IFERROR(W1029/100*L1029*INDEX(Application,X1029,4), 0)} -> 0 | N1029: {=IFERROR(M1029/100*L1029*INDEX(Application,X1029,4), 0)} -> 0 | R1029: =IF(ISBLANK(Q1029), "", VLOOKUP(Q1029, Z!$A$2:$C$4127, 3, FALSE)) | T1029: =0.75*(I1029-N1029)*10 -> 0 | V1029: =IF(ISBLANK(G1029), 1, IFERROR(MATCH(G1029, INDEX(Type,,1), 0), IFERROR(MATCH(G1029, INDEX(Type,,2), 0), MATCH(G1029, INDEX(Type,,3), 0)))) -> 1 | W1029: =IF(V1029=1,36.82+L1029*(-0.2119),IF(V1029=2,20.08,IF(V1029=3,20.35+L1029*(-0.0374),0))) -> 36.82 | X1029: =IF(ISBLANK(H1029), 1, IFERROR(MATCH(H1029, INDEX(Application,,1), 0), IFERROR(MATCH(H1029, INDEX(Application,,2), 0), MATCH(H1029, INDEX(Application,,3), 0)))) -> 1 | Y1029: =IF(ISBLANK(G1029), 1, IFERROR(MATCH(G1029, INDEX(Type,,1), 0), IFERROR(MATCH(G1029, INDEX(Type,,2), 0), MATCH(G1029, INDEX(Type,,3), 0)))) -> 1 | Z1029: =IF(Y1029=1,0.65*(36.82+L1029*(-0.2119)),IF(Y1029=2,0.65*20.08,IF(Y1029=3,0.75*(20.35+L1029*(-0.0374)),0))) -> 23.933 | AA1029: =0.65*(36.82+L1029*(-0.2119)) -> 23.933 | AB1029: =0.65*20.08 -> 13.052 | AC1029: =0.75*(20.35+L1029*(-0.0374)) -> 15.2625 | AD1029: =IF(Y1029=1,0,IF(Y1029=2,80,IF(Y1029=3,0,0))) -> 0 | AE1029: =IF(Y1029=1,79,IF(Y1029=2,199,IF(Y1029=3,199,0))) -> 79

Sheet Y
A1: Sheet | B1: Nr | C1: D | D1: F | E1: I | F1: D | G1: F | H1: I
A2: Monitoring | B2: 1 | C2: Monitoringliste | D2: Liste de monitoring | E2: Lista di Monitoring
B3: 2 | C3: Standort | D3: Site | E3: Posizione
B4: 3 | C4: Alte Anlage/Gerät | D4: Ancienne installation/appareil | E4: Vecchio impianto/appareccho
B5: 4 | C5: Neue Anlage/Gerät | D5: Nouvelle installation/appareil | E5: Nuovo impianto/appareccho
B6: 5 | C6: Firma, welche den Ersatz durchgeführt hat | D6: Entreprise qui a effectué le remplacement | E6: Azienda che ha effettuato la sostituzione
B7: 6 | C7: Gesamt | D7: Total | E7: Totale
B8: 7 | C8: Eingabefeld (obligatorisch) | D8: Champ d'entrée (obligatoire) | E8: Campo di ingresso (obbligatorio)
B9: 8 | C9: Berechnetetes Feld | D9: Champ calculé | E9: Campo calcolato
B10: 9 | C10: Gesperrtes Feld | D10: Champ verrouillé | E10: Campo bloccato
B11: 10 | C11: Gemeinde | D11: Commune | E11: Commune
B12: 11 | C12: Ort | D12: Lieu | E12: Luogo
B13: 12 | C13: Adresse | D13: Adresse | E13: Indirizzo
B14: 13 | C14: Nr | D14: n° | E14: no
... B48: 47 | C48: Bitte füllen Sie nur eines der beiden Felder unten aus (im Fall eines Pauschalansatzes) | D48: Veuillez remplir seulement un des deux champs ci-dessous (dans le cas d'une approche forfaitaire). | E48: Compila solo uno dei due campi sottostanti (in caso di un approccio forfettario).
B49: 48
B50: 49 | C50: Allgemeine Angaben | D50: Informations générales | E50: Informazioni generali
A51: Insérer ici tous les titres spécifiques à la mesure | B51: 50
B52: 51
B53: 52
B54: 53
B55: 54
B56: 55
B57: 56
B58: 57
B59: 58
B60: 59
B61: 60
B62: 61
B63: 62
... B77: 76
B78: 77 | C78: Eisproduktion** | D78: Production de glaçons** | E78: Produzione di ghiaccio**
B79: 78 | C79: Spezifischer Stromverbrauch** | D79: Consommation électrique spécifique** | E79: Consumo energetico specifico**
B80: 79 | C80: ** gemäss EN ISO 6369:2023 | D80: ** selon EN ISO 6369:2023 | E80: ** secondo EN ISO 6369:2023
B81: 80 | C81: Eisbereitertyp | D81: Type de machine à glaçons | E81: Tipo di macchina per il ghiaccio
B82: 81 | C82: Mit Eisvorratsbehälter und <80 kg/24h | D82: Avec bac de stockage et <80 kg/24h | E82: Con contenitore di stoccaggio e capacità <80 kg/24h
B83: 82 | C83: Mit Eisvorratsbehälter und 80-199 kg/24h | D83: Avec bac de stockage et 80-199 kg/24h | E83: Con contenitore di stoccaggio e capacità di 80-199 kg/24h
B84: 83 | C84: Ohne Eisvorratsbehälter und <200 kg/24h | D84: Sans bac de stockage et <200 kg/24h | E84: Senza contenitore di stoccaggio e <200 kg/24h
B85: 84
B86: 85
B87: 86
B88: 87
B89: 88
B90: 89
B91: 90 | C91: Einsatzbereich | D91: Domaine d'application | E91: Ambito di applicazione | F91: Faktor
B92: 91 | C92: Detailhandel mit einer Verkaufsfläche bis 300 m2 | D92: Commerce de détail avec une surface de vente jusqu'à 300 m² | E92: Commercio al dettaglio con una superficie di vendita fino a 300 m2 | F92: 200
B93: 92 | C93: Gastronomie | D93: Restauration | E93: Ristorazione | F93: 270
B94: 93 | C94: Hotellerie und Detailhandel mit einer Verkaufsfläche über 300 m2 | D94: Hôtellerie et commerce de détail avec une surface de vente supérieure à 300 m² | E94: Settore alberghiero e commercio al dettaglio con una superficie di vendita superiore a 300 m2 | F94: 315
B95: 94 | C95: Gesundheitswesen und Wellness | D95: Santé et bien-être | E95: Sanità e wellness | F95: 350
B96: 95
B97: 96
B98: 97
B99: 98
B100: 99 | C100: Beispiele | D100: Exemples | E100: Esempi
A101: Protocole | B101: 100 | C101: Einsparprotokoll | D101: Protocole d'économie | E101: Protocollo di risparmio
B102: 101 | C102: Standardisierte Massnahme | D102: Mesure standardisée | E102: Misura standardizzata
B103: 102 | C103: Massnahmennummer | D103: Identifiant de la mesure | E103: Numero della misura
B104: 103 | C104: Version | D104: Version | E104: Versione
B105: 104 | C105: Gültig ab | D105: Valable dès | E105: Valida dal
B106: 105 | C106: Es obliegt dem Elektrizitätslieferanten, sich jährlich rechtzeitig zu informieren, ob eine aktualisierte Version vorliegt. Das BFE publiziert allfällige aktualisierte Versionen im November. Während einer Übergangsfrist von 12 Monaten ab Gültigkeit dürfen die umgesetzten Massnahmen auch noch mit der vorgängigen Version gemeldet werden. | D106: Il incombe au fournisseur d’électricité de s’informer chaque année en temps utile si une version actualisée est disponible. L’OFEN publie les éventuelles versions actualisées en novembre. Pendant une période de transition de 12 mois à compter de la date de validité, les mesures mises en œuvre peuvent encore être annoncées avec la version précédente. | E106: È responsabilità del fornitore di elettricità informarsi tempestivamente ogni anno se è disponibile una versione aggiornata. L’UFE pubblica le eventuali versioni aggiornate nel mese di novembre. Durante un periodo transitorio di 12 mesi dalla data di validità, le misure adottate possono ancora essere notificate utilizzando la versione precedente.
B107: 106
B108: 107 | C108: Wichtig: | D108: Important : | E108: Importante:
B109: 108
B110: 109 | C110: Gegenstand | D110: Objet | E110: Oggetto
B111: 110 | C111: Anwendungsbereich | D111: Champ d'application | E111: Campo di applicazione
B112: 111 | C112: Beschreibung | D112: Description | E112: Descrizione
B113: 112
B114: 113
B115: 114 | C115: Anforderungen | D115: Exigences | E115: Requisiti
B116: 115 | C116: Nur Massnahmen, welche die Anforderungen der Energieverordnung (SR 730.01; EnV) einhalten, können angerechnet werden. Die zusätzlichen Anforderungen an die technischen Eigenschaften sowie an die Umsetzung der Massnahme sind in der Tabelle 1 festgelegt. | D116: Seules les mesures qui respectent les exigences de l’ordonnance sur l’énergie (RS 730.01; OEne) peuvent être prises en compte. Les exigences supplémentaires relatives aux caractéristiques techniques et à la mise en œuvre de la mesure sont définies dans le tableau 1. | E116: Solo le misure che soddisfano i requisiti dell’ordinanza sull’energia (RS 730.01; OEn) possono essere prese in considerazione. I requisiti supplementari relativi alle caratteristiche tecniche e all’adozione della misura sono riportati nella tabella 1.
B117: 116 | C117: Tabelle 1: Anforderungen | D117: Tableau 1: Exigences | E117: Tabella 1: Requisiti
B118: 117 | C118: Altes System | D118: Ancien système | E118: Vecchio sistema
B119: 118 | C119: Neues System | D119: Nouveau système | E119: Nuovo sistema
B120: 119 | C120: Altes / Neues System | D120: Ancien / Nouveau système | E120: Vecchio / Nuovo sistema
B121: 120 | C121: Umsetzung | D121: Mise en œuvre | E121: Attuazione
B122: 121 | C122: Der Ersatz und die Inbetriebnahme des neuen Systems müssen durch eine qualifizierte Fachperson oder Firma durchgeführt werden. | D122: Le remplacement et la mise en service du nouveau système doivent être effectués par une personne ou entreprise spécialisée et qualifiée. | E122: La sostituzione e la messa in funzione del nuovo sistema devono essere effettuate da una persona specializzata o un’azienda qualificata.
B123: 122 | C123: Entsorgung | D123: Élimination | E123: Smaltimento
B124: 123 | C124: Die verbrauchsrelevanten Komponenten der alten Geräte dürfen innerhalb der Schweiz nicht weiterbetrieben werden. Die fachgerechte Entsorgung oder die Ausfuhr muss auf Anfrage nachgewiesen werden können. | D124: Les composants pertinents en matière de consommation énergétique des anciens appareils ne doivent plus être réutilisés en Suisse. L'élimination appropriée ou l'exportation doit pouvoir être prouvée sur demande. | E124: I componenti soggetti a consumo dei vecchi apparecchi non possono continuare a essere utilizzati in Svizzera. I documenti del corretto smaltimento o dell'esportazione devono essere dimostrati su richiesta.
B125: 124
B126: 125 | C126: Nachweis | D126: Justificatif | E126: Prova
B127: 126 | C127: Die Einhaltung der Anforderungen muss durch die folgenden Dokumente belegt werden. Die in der Tabelle 2 aufgeführten Unterlagen sind integraler Bestandteil des Nachweises der Massnahmenumsetzung. | D127: Le respect des exigences doit être prouvé par les documents suivants. Les documents énumérés dans le tableau 2 font partie intégrante de la preuve de la mise en œuvre de la mesure ou des mesures. | E127: Il rispetto dei requisiti deve essere comprovato con i seguenti documenti. I documenti elencati nella la tabella 2 sono parte integrante della prova di adozione delle misure.
B128: 127 | C128: Tabelle 2: Nachweise | D128: Tableau 2: Justificatifs | E128: Tabella 2: Prove
B129: 128 | C129: Die Monitoringliste (Tabelle B), welche jede umgesetzte Massnahme aufzeigt, die mit diesem Einsparprotokoll gebündelt gemeldet wird. Jede Massnahme muss mit den gesamten Angaben vollständig erfasst werden. | D129: La liste de monitoring (tableau B), qui indique chaque mesure mise en œuvre et qui est communiquée de manière groupée avec le présent protocole d'économie. Chaque mesure doit être saisie avec toutes les informations requises. | E129: Lista di monitoraggio (tabella B), contenente una o più misure adottate che vengono comunicate attraverso il presente protocollo di risparmio. Ogni misura deve essere registrato con tutte le informazioni richieste.
B130: 129 | C130: Erläuterung (Format PDF, max. 2 A4-Seiten), wie sichergestellt wird, dass die ersetzten Geräte fachgerecht entsorgt wurden (z. B. mittels Deklarationen, Entsorgungspositionen auf Unternehmerrechnungen, usw.). | D130: Une explication (format PDF, max. 2 pages A4) sur la manière dont il est garanti que les appareils remplacés ont été éliminés dans les règles de l’art (p. ex. au moyen de déclarations, de positions d'élimination sur les factures des entreprises, etc.) | E130: Spiegazione (in formato PDF, max. 2 pagine A4) delle modalità con cui si garantisce il corretto smaltimento degli apparecchi via via sostituiti (ad esempio tramite dichiarazioni, indicazioni di smaltimento sulle fatture aziendali, ecc.).
B131: 130 | C131: Rechnungsbelege (Format PDF, PNG oder JPEG) | D131: Les justificatifs de la facture (format PDF, PNG ou JPEG) | E131: Giustificativi (in formato PDF, JPEG o PNG) della fattura
B132: 131 | C132: Z. B. über Beispiele von Formularen, Positionen auf Rechnungen oder dergleichen. | D132: P. ex. via des exemples de formulaires, de positions sur des factures ou autres. | E132: Ad es. tramite formulari, voci di fatture o simili.
B133: 132
B134: 133
B135: 134
B136: 135 | C136: Meldung der Massnahme | D136: Annonce de la mesure | E136: Notifica della misura
B137: 136 | C137: Die Unterlagen unter Punkt 1 müssen bei der Meldung dem Einsparprotokoll beigelegt werden. | D137: Les documents du point 1 doivent être joints au protocole d’économie lors de l’annonce. | E137: I documenti di cui al punto 1 devono essere allegati al protocollo di risparmio al momento della presentazione della notifica.
B138: 137 | C138: Die Unterlagen unter Punkt | D138: Les documents du point | E138: I documenti di cui ai punti da
B139: 138
B140: 139 | C140: müssen nicht systematisch eingereicht werden, aber der Vollzugsbehörde bei einer allfälligen Kontrolle innerhalb von 30 Tagen vorgelegt werden können. | D140: ne doivent pas être annoncés de manière systématique mais pouvoir être présentés dans les 30 jours lors d’un éventuel contrôle de l’autorité d’exécution. | E140: non devono essere comunicate in modo sistematico, ma devono poter essere presentati entro 30 giorni in caso di ispezione da parte dell’autorità di esecuzione.
B141: 140 | C141: Berechnungen | D141: Calculs | E141: Calcoli
B142: 141 | C142: Die anrechenbaren Stromeinsparungen der Massnahme werden abhängig von den festgelegten Eingabevariablen durch die Monitoringliste in Kilowattstunden berechnet. Informationen zu den Annahmen und der Berechnungsmethode sind in der zugehörigen Dokumentation | D142: Les économies d’électricité comptabilisables de la mesure sont calculées en kilowattheures à l'aide de la liste de monitoring, en fonction des variables d'entrée définies. Des informations sur les hypothèses et la méthode de calcul figurent dans la documentation correspondante | E142: Il risparmio di elettricità computabile della misura è calcolato in kilowattora sulla base dell'elenco di monitoraggio, in funzione delle variabili di input definite. Per informazioni sulle ipotesi e sul metodo di calcolo, consultare la relativa documentazione
B143: 142 | C143: zu finden
B144: 143 | C144: Einsparungen | D144: Économies | E144: Risparmio
B145: 144 | C145: Anrechenbare Stromeinsparungen* [kWh] | D145: Économies d’électricité comptabilisables* [kWh] | E145: Risparmio di elettricità computabile* [kWh]
B146: 145 | C146: * automatisch nach der in der Dokumentation | D146: * calculé automatiquement selon la méthode de calcul décrite dans la documentation | E146: * calcolato automaticamente secondo il metodo di calcolo descritto nella documentazione
...

Sheet Z
A1: PLZ | B1: Ortschaftsname | C1: Gemeindename | D1: Kantonskürzel | E1: Gemeinden | G1: ZIP4 | H1: CLIMATE_CODE | J1: Abbr. | K1: Station
A2: 8914 | B2: Aeugst am Albis | C2: Aeugst am Albis | D2: ZH | E2: {=_xlfn.UNIQUE(C2:C4112)} -> Aeugst am Albis | G2: 1000 | H2: PUY | J2: ABO | K2: Adelboden | L2: 6.1380822
A3: 8914 | B3: Aeugstertal | C3: Aeugst am Albis | D3: ZH | E3: Affoltern am Albis | G3: 1003 | H3: PUY | J3: AIG | K3: Aigle | L3: 10.096438
A4: 8909 | B4: Zwillikon | C4: Affoltern am Albis | D4: ZH | E4: Bonstetten | G4: 1004 | H4: PUY | J4: ALT | K4: Altdorf | L4: 9.9652055
A5: 8910 | B5: Affoltern am Albis | C5: Affoltern am Albis | D5: ZH | E5: Hausen am Albis | G5: 1005 | H5: PUY | J5: BAS | K5: Basel-Binningen | L5: 10.506027
A6: 8906 | B6: Bonstetten | C6: Bonstetten | D6: ZH | E6: Hedingen | G6: 1006 | H6: PUY | J6: BER | K6: Bern-Liebefeld | L6: 9.1572603
A7: 8915 | B7: Hausen am Albis | C7: Hausen am Albis | D7: ZH | E7: Kappel am Albis | G7: 1007 | H7: PUY | J7: BUS | K7: Buchs-Aarau | L7: 9.7084932
A8: 8925 | B8: Ebertswil | C8: Hausen am Albis | D8: ZH | E8: Knonau | G8: 1008 | H8: PUY | J8: CHU | K8: Chur | L8: 9.6657534
A9: 8908 | B9: Hedingen | C9: Hedingen | D9: ZH | E9: Maschwanden | G9: 1009 | H9: PUY | J9: DAV | K9: Davos | L9: 3.6249315
A10: 8926 | B10: Kappel am Albis | C10: Kappel am Albis | D10: ZH | E10: Mettmenstetten | G10: 1010 | H10: PUY | J10: DIS | K10: Disentis | L10: 6.7490411
A11: 8926 | B11: Hauptikon | C11: Kappel am Albis | D11: ZH | E11: Obfelden | G11: 1011 | H11: PUY | J11: ENG | K11: Engelberg | L11: 6.4224658
A12: 8926 | B12: Uerzlikon | C12: Kappel am Albis | D12: ZH | E12: Ottenbach | G12: 1012 | H12: PUY | J12: GVE | K12: Geneve-Cointrin | L12: 10.71589
A13: 8934 | B13: Knonau | C13: Knonau | D13: ZH | E13: Rifferswil | G13: 1015 | H13: PUY | J13: GLA | K13: Glarus | L13: 8.8164384
A14: 8933 | B14: Maschwanden | C14: Maschwanden | D14: ZH | E14: Stallikon | G14: 1018 | H14: PUY | J14: GSB | K14: Grand-St-Bernard | L14: -0.42876712
... A41: 8460 | B41: Marthalen | C41: Marthalen | D41: ZH | E41: Eglisau | G41: 1052 | H41: PUY | J41: SMA | K41: Zürich-MeteoSchweiz | L41: 9.3989041
A42: 8464 | B42: Ellikon am Rhein | C42: Marthalen | D42: ZH | E42: Embrach | G42: 1053 | H42: PUY
A43: 8475 | B43: Ossingen | C43: Ossingen | D43: ZH | E43: Freienstein-Teufen | G43: 1054 | H43: PUY
A44: 8462 | B44: Rheinau | C44: Rheinau | D44: ZH | E44: Glattfelden | G44: 1055 | H44: PUY
A45: 8478 | B45: Thalheim an der Thur | C45: Thalheim an der Thur | D45: ZH | E45: Hochfelden | G45: 1058 | H45: PUY
A46: 8465 | B46: Rudolfingen | C46: Trüllikon | D46: ZH | E46: Höri | G46: 1059 | H46: PUY
A47: 8465 | B47: Wildensbuch | C47: Trüllikon | D47: ZH | E47: Hüntwangen | G47: 1061 | H47: PUY
A48: 8466 | B48: Trüllikon | C48: Trüllikon | D48: ZH | E48: Kloten | G48: 1062 | H48: PAY
A49: 8467 | B49: Truttikon | C49: Truttikon | D49: ZH | E49: Lufingen | G49: 1063 | H49: PAY
A50: 8459 | B50: Volken | C50: Volken | D50: ZH | E50: Nürensdorf | G50: 1066 | H50: PUY
A51: 8184 | B51: Bachenbülach | C51: Bachenbülach | D51: ZH | E51: Oberembrach | G51: 1068 | H51: PUY
A52: 8303 | B52: Bassersdorf | C52: Bassersdorf | D52: ZH | E52: Opfikon | G52: 1070 | H52: PUY
A53: 8180 | B53: Bülach | C53: Bülach | D53: ZH | E53: Rafz | G53: 1071 | H53: PUY
... A2147: 7015 | B2147: Tamins | C2147: Tamins | D2147: GR | E2147: Vaduz | G2147: 6809 | H2147: MAG
A2148: 7014 | B2148: Trin | C2148: Trin | D2148: GR | G2148: 6810 | H2148: MAG
A2149: 7016 | B2149: Trin Mulin | C2149: Trin | D2149: GR | G2149: 6814 | H2149: LUG
A2150: 7527 | B2150: Brail | C2150: Zernez | D2150: GR | G2150: 6815 | H2150: LUG
A2151: 7530 | B2151: Zernez | C2151: Zernez | D2151: GR | G2151: 6816 | H2151: LUG
A2152: 7542 | B2152: Susch | C2152: Zernez | D2152: GR | G2152: 6817 | H2152: LUG
A2153: 7543 | B2153: Lavin | C2153: Zernez | D2153: GR | G2153: 6818 | H2153: LUG
A2154: 7562 | B2154: Samnaun-Compatsch | C2154: Samnaun | D2154: GR | G2154: 6821 | H2154: LUG
A2155: 7563 | B2155: Samnaun Dorf | C2155: Samnaun | D2155: GR | G2155: 6822 | H2155: LUG
A2156: 7545 | B2156: Guarda | C2156: Scuol | D2156: GR | G2156: 6823 | H2156: LUG
A2157: 7546 | B2157: Ardez | C2157: Scuol | D2157: GR | G2157: 6825 | H2157: LUG
A2158: 7550 | B2158: Scuol | C2158: Scuol | D2158: GR | G2158: 6826 | H2158: LUG
A2159: 7551 | B2159: Ftan | C2159: Scuol | D2159: GR | G2159: 6827 | H2159: LUG
... A3182: 1313 | B3182: Ferreyres | C3182: Ferreyres | D3182: VD | G3182: 9658 | H3182: VAD
A3183: 1124 | B3183: Gollion | C3183: Gollion | D3183: VD
A3184: 1117 | B3184: Grancy | C3184: Grancy | D3184: VD
A3185: 1148 | B3185: L'Isle | C3185: L'Isle | D3185: VD
A3186: 1148 | B3186: Villars-Bozon | C3186: L'Isle | D3186: VD
A3187: 1148 | B3187: La Coudre | C3187: L'Isle | D3187: VD
A3188: 1307 | B3188: Lussery-Villars | C3188: Lussery-Villars | D3188: VD
A3189: 1148 | B3189: Mauraz | C3189: Mauraz | D3189: VD
A3190: 1031 | B3190: Mex VD | C3190: Mex (VD) | D3190: VD
A3191: 1148 | B3191: Moiry VD | C3191: Moiry | D3191: VD
A3192: 1148 | B3192: Mont-la-Ville | C3192: Mont-la-Ville | D3192: VD
A3193: 1147 | B3193: Montricher | C3193: Montricher | D3193: VD
A3194: 1317 | B3194: Orny | C3194: Orny | D3194: VD
... A4111: 2954 | B4111: Asuel | C4111: La Baroche | D4111: JU
A4112: 9490 | B4112: Vaduz | C4112: Vaduz
A4113: 9495 | B4113: Triesen | C4113: Triesen
A4114: 9496 | B4114: Balzers | C4114: Balzers
A4115: 9497 | B4115: Triesenberg | C4115: Triesenberg
A4116: 9494 | B4116: Schaan | C4116: Schaan
A4117: 9498 | B4117: Planken | C4117: Planken
A4118: 9485 | B4118: Nendeln | C4118: Eschen
A4119: 9492 | B4119: Eschen | C4119: Eschen
A4120: 9486 | B4120: Schaanwald | C4120: Mauren
A4121: 9493 | B4121: Mauren FL | C4121: Mauren
A4122: 9487 | B4122: Gamprin-Bendern | C4122: Gamprin
A4123: 9491 | B4123: Ruggell | C4123: Ruggell
A4124: 9488 | B4124: Schellenberg | C4124: Schellenberg
A4125: 9999 | B4125: Thunersee | C4125: Thunersee | D4125: BE
A4126: 9999 | B4126: Brienzersee | C4126: Brienzersee | D4126: BE
A4127: 9999 | B4127: Bielersee | C4127: Bielersee (BE) | D4127: BE
B4128: 44749 | C4128: https://www.cadastre.ch/fr/services/service/registry/plz.html
