Workbook
Name Kat: Y!$C$61:$E$71
Name Lang: Version!$R$6
Name Lang_measure: Version!$R$12
Name measure_id: Version!$R$8
Name measure_version: Version!$R$9
Name Systems: Y!$C$76:$E$79
Name Trad: Y!$C$2:$H$401
Name Units: Y!$C$51:$E$56

Sheet Version
N1: Texte | O1: Texte | P1: Formeln | Q1: Formeln | R1: Parameter | S1: Parameter | T1: Format | U1: Explanation
I2: {=INDEX(Trad, N2, Lang)} -> Eidgenössisches Departement für Umwelt, Verkehr, | N2: 200
I3: {=INDEX(Trad, N3, Lang)} -> Energie und Kommunikation UVEK | N3: 201
I4: {=INDEX(Trad, N4, Lang)} -> Bundesamt für Energie BFE | N4: 202
I6: {=INDEX(Trad, N6, Lang)} -> Bitte wählen Sie die Sprache aus | L6: D | N6: 203 | R6: {=_xlfn.SWITCH(L6, "D", 1, "F", 2, "I", 3)} -> 1 | S6: Lang
B7: =IF(B12="D", 1, IF(B12="F", 2, 3)) -> 3
I8: {=INDEX(Trad, N8, Lang)} -> Massnahme | L8: =R8 -> HZ-01a | N8: 23 | R8: HZ-01a | S8: measure_id | U8: Modifier en fonction de la mesure
I9: {=INDEX(Trad, N9, Lang)} -> Version | L9: =R9 -> 2.10 (05.2026) | N9: 24 | R9: =$Q$21&" ("&$Q$22&")" -> 2.10 (05.2026) | S9: measure_version
B13: {=INDEX(Trad, N13, Lang)} -> Inhaltsverzeichnis | N13: 205
B15: {=INDEX(Trad, N15, Lang)} -> A. Einsparprotokoll | F15: {=INDEX(Trad, O15, $R$6)} -> legt den Anwendungsbereich und die Anforderungen für die Umsetzung der Massnahme sowie an die Nachweise fest. Es ist keine Eingabe erforderlich. | N15: 206 | O15: 208
B16: {=INDEX(Trad, N16, Lang)} -> B. Monitoringliste | F16: {=INDEX(Trad, O16, $R$6)} -> fasst die in diesem Protokoll gemeldeten Massnahmen zusammen. Alle Eingabefelder müssen für jede Massnahme ausgefüllt werden. | N16: 207 | O16: 209
B19: {=INDEX(Trad, N19, Lang)} -> Versionshistorie | N19: 210
B21: Nr. | C21: {=INDEX(Trad, N21, Lang)} -> Datum | D21: {=INDEX(Trad, O21, Lang)} -> Änderung | N21: 211 | O21: 220 | P21: {=_xlfn.XLOOKUP(TRUE, $R$22:$R$35<>"", $R$22:$R$35, , ,-1)} -> 2.1 | Q21: =TEXT(P21,"#.00") -> 2.10
B22: =IF(OR(ISBLANK(R22), P22=R22),"",R22) -> 1 | C22: =IF(OR(ISBLANK(S22), Q22=S22),"",S22) -> 45597 | D22: {=IF(ISBLANK(B22), "", INDEX(Trad, N22, Lang))} -> Erste Fassung | N22: 221 | P22: =VLOOKUP(P21, $R$22:$S$35, 2, FALSE) -> 46143 | Q22: =TEXT(Version!P22,"mm.aaaa") -> 05.2026 | R22: 1 | S22: 45597 | T22: =1 -> 1 | U22: Modifier en fonction de la version et la date de la modification (l'entrée s'affiche seulement si le texte est saisi dans Y)
B23: =IF(OR(ISBLANK(R23), R22=R23),"",R23) -> 2 | C23: =IF(OR(ISBLANK(S23), S22=S23),"",S23) -> 45962 | D23: {=IF(ISBLANK(INDEX(Trad, N23, Lang)), "", INDEX(Trad, N23, Lang))} -> Aufnahme einer Übersichtstabelle über die Änderungen zwischen den früheren Versionen | N23: 222 | R23: 2 | S23: 45962 | T23: =IF(ISBLANK(R23), 1001, IF(R23<>R22, T22+1,T22)) -> 2
B24: =IF(OR(ISBLANK(R24), R23=R24),"",R24) | C24: =IF(OR(ISBLANK(S24), S23=S24),"",S24) | D24: {=IF(ISBLANK(INDEX(Trad, N24, Lang)), "", INDEX(Trad, N24, Lang))} -> Einfügen des Einsparprotokolls (Blatt A) | N24: 223 | R24: 2 | S24: 45962 | T24: =IF(ISBLANK(R24), 1001, IF(R24<>R23, T23+1,T23)) -> 2
B25: =IF(OR(ISBLANK(R25), R24=R25),"",R25) | C25: =IF(OR(ISBLANK(S25), S24=S25),"",S25) | D25: {=IF(ISBLANK(INDEX(Trad, N25, Lang)), "", INDEX(Trad, N25, Lang))} -> Änderung und Aufnahme von Feldern in der Monitoringliste (Blatt B) | N25: 224 | R25: 2 | S25: 45962 | T25: =IF(ISBLANK(R25), 1001, IF(R25<>R24, T24+1,T24)) -> 2
B26: =IF(OR(ISBLANK(R26), R25=R26),"",R26) | C26: =IF(OR(ISBLANK(S26), S25=S26),"",S26) | D26: {=IF(ISBLANK(INDEX(Trad, N26, Lang)), "", INDEX(Trad, N26, Lang))} -> Diverse Layout Anpassungen | N26: 225 | R26: 2 | S26: 45962 | T26: =IF(ISBLANK(R26), 1001, IF(R26<>R25, T25+1,T25)) -> 2
B27: =IF(OR(ISBLANK(R27), R26=R27),"",R27) -> 2.1 | C27: =IF(OR(ISBLANK(S27), S26=S27),"",S27) -> 46143 | D27: {=IF(ISBLANK(INDEX(Trad, N27, Lang)), "", INDEX(Trad, N27, Lang))} -> Korrektur der Anforderungen an die Technologien, Energieträger und Gütesiegel (Tabelle 1) | N27: 226 | R27: 2.1 | S27: 46143 | T27: =IF(ISBLANK(R27), 1001, IF(R27<>R26, T26+1,T26)) -> 3
N28: 227 | R28: 2.1 | S28: 46143 | T28: =IF(ISBLANK(R28), 1001, IF(R28<>R27, T27+1,T27)) -> 3
B29: =IF(OR(ISBLANK(R29), R28=R29),"",R29) | C29: =IF(OR(ISBLANK(S29), S28=S29),"",S29) | D29: {=IF(ISBLANK(INDEX(Trad, N29, Lang)), "", INDEX(Trad, N29, Lang))} | N29: 228 | T29: =IF(ISBLANK(R29), 1001, IF(R29<>R28, T28+1,T28)) -> 1001
B30: =IF(OR(ISBLANK(R30), R29=R30),"",R30) | C30: =IF(OR(ISBLANK(S30), S29=S30),"",S30) | D30: {=IF(ISBLANK(INDEX(Trad, N30, Lang)), "", INDEX(Trad, N30, Lang))} | N30: 229 | T30: =IF(ISBLANK(R30), 1001, IF(R30<>R29, T29+1,T29)) -> 1001
B31: =IF(OR(ISBLANK(R31), R30=R31),"",R31) | C31: =IF(OR(ISBLANK(S31), S30=S31),"",S31) | D31: {=IF(ISBLANK(INDEX(Trad, N31, Lang)), "", INDEX(Trad, N31, Lang))} | N31: 230 | T31: =IF(ISBLANK(R31), 1001, IF(R31<>R30, T30+1,T30)) -> 1001
B32: =IF(OR(ISBLANK(R32), R31=R32),"",R32) | C32: =IF(OR(ISBLANK(S32), S31=S32),"",S32) | D32: {=IF(ISBLANK(INDEX(Trad, N32, Lang)), "", INDEX(Trad, N32, Lang))} | N32: 227 | T32: =IF(ISBLANK(R32), 1001, IF(R32<>R31, T31+1,T31)) -> 1001
B33: =IF(OR(ISBLANK(R33), R32=R33),"",R33) | C33: =IF(OR(ISBLANK(S33), S32=S33),"",S33) | D33: {=IF(ISBLANK(INDEX(Trad, N33, Lang)), "", INDEX(Trad, N33, Lang))} | N33: 228 | T33: =IF(ISBLANK(R33), 1001, IF(R33<>R32, T32+1,T32)) -> 1001
B34: =IF(OR(ISBLANK(R34), R33=R34),"",R34) | C34: =IF(OR(ISBLANK(S34), S33=S34),"",S34) | D34: {=IF(ISBLANK(INDEX(Trad, N34, Lang)), "", INDEX(Trad, N34, Lang))} | N34: 229 | T34: =IF(ISBLANK(R34), 1001, IF(R34<>R33, T33+1,T33)) -> 1001
B35: =IF(OR(ISBLANK(R35), R34=R35),"",R35) | C35: =IF(OR(ISBLANK(S35), S34=S35),"",S35) | D35: {=IF(ISBLANK(INDEX(Trad, N35, Lang)), "", INDEX(Trad, N35, Lang))} | N35: 230 | T35: =IF(ISBLANK(R35), 1001, IF(R35<>R34, T34+1,T34)) -> 1001
B41: {=INDEX(Trad, N41, Lang)} -> Disclaimer | N41: 240
B42: {=INDEX(Trad, N42, Lang)} -> Dieses Dokument dient ausschliesslich für den Nachweis der Umsetzung der erwähnten Energieeffizienzmassnahme nach Artikel 46b EnG. Die enthaltenen Angaben und Berechnungen wurden anhand von Normen, Studien und Erfahrungswerten erstellt. Dieses Einsparprotokoll kann nicht anderweitig als Beleg der effektiven Stromeinsparungen, welche durch die jeweilige Effizienzmassnahme erbracht wurden, verwendet werden. Das Bundesamt für Energie übernimmt keinerlei Gewähr für eine Verwendung ausserhalb des Nachweises der Umsetzung nach Artikel 46b EnG. | N42: 241
T51: 10
T54: 10
T57: 10
T60: 10
T63: 10
T65: 8
T67: 10
T68: 10
T70: 11
T71: 10
T73: 11
...

Sheet A
R1: Texte | S1: Texte | T1: Texte | U1: Texte | V1: Texte | W1: Formeln | X1: Parameter | Y1: Parameter | Z1: Format | AA1: Format | AB1: Format | AC1: Format | AD1: Explanation
B2: {=INDEX(Trad, 204, Lang)} -> Zurück zur Übersicht
L4: {=INDEX(Trad, R4, Lang)} -> Eidgenössisches Departement für Umwelt, Verkehr, | R4: 200
L5: {=INDEX(Trad, R5, Lang)} -> Energie und Kommunikation UVEK | R5: 201
L6: {=INDEX(Trad, R6, Lang)} -> Bundesamt für Energie BFE | R6: 202
Z7: Font | AA7: Lines | AB7: Height
B8: {=INDEX(Trad, R8, Lang)} -> Standardisierte Massnahme | R8: 101 | Z8: 14
B9: {=INDEX(Trad, R9, Lang)} -> Ersatz von elektrischen Wassererwärmern in Gebäuden | R9: 150 | Z9: 16
B10: {=INDEX(Trad, R10, Lang)} -> Einsparprotokoll | R10: 100
B11: {=INDEX(Trad, R11, Lang)} -> Massnahmennummer | P11: =measure_id -> HZ-01a | R11: 102 | Z11: 8 | AA11: 1 | AB11: =12.75*AA11 + 2.25 -> 15
B12: {=INDEX(Trad, R12, Lang)} -> Version | P12: =measure_version -> 2.10 (05.2026) | R12: 103 | Z12: 8 | AA12: 1 | AB12: =12.75*AA12 + 2.25 -> 15
B13: {=INDEX(Trad, R13, Lang)} -> Gültig ab | N13: =IF(MONTH(Version!P22)=11, DATE(YEAR(Version!P22)+1, 1, 1), Version!P22) -> 46143 | R13: 104 | Z13: 8 | AA13: 1 | AB13: =12.75*AA13 + 2.25 -> 15
B15: {=INDEX(Trad, R15, Lang)} -> Es obliegt dem Elektrizitätslieferanten, sich jährlich rechtzeitig zu informieren, ob eine aktualisierte Version vorliegt. Das BFE publiziert allfällige aktualisierte Versionen im November. Während einer Übergangsfrist von 12 Monaten ab Gültigkeit dürfen die umgesetzten Massnahmen auch noch mit der vorgängigen Version gemeldet werden. | R15: 105 | Z15: 7 | AA15: 3 | AB15: =11.25*AA15 + 2.25 -> 36
Z17: Font | AA17: Lines | AB17: Height
B18: {="1. " & INDEX(Trad, R18, Lang)} -> 1. Gegenstand | R18: 109 | Z18: 11 | AA18: - | AB18: 20 | AC18: Subtitel
B19: {=INDEX(Trad, R19, Lang)} -> Anwendungsbereich | R19: 110 | Z19: 10 | AA19: 1 | AB19: =12.75*AA19 + 2.25 -> 15
B20: {=INDEX(Trad, R20, Lang)} -> Dezentrale elektrische (Joule-Effekt) Warmwasseraufbereitungssysteme in Gebäuden. | R20: 151 | Z20: 10 | AA20: 2 | AB20: =12.75*AA20 + 2.25 -> 27.75
B22: {=INDEX(Trad, R22, Lang)} -> Beschreibung | R22: 111
B23: {=INDEX(Trad, R23, Lang)} -> Ersatz eines dezentralen elektrischen konventionellen Warmwasseraufbereiters (nachfolgend elektrische Wassererwärmer) gemäss Energieeffizienzverordnung (SR 730.02; EnEV) durch ein effizienteres Warmwasseraufbereitungssystem. | R23: 152 | Z23: 10 | AA23: 4 | AB23: =12.75*AA23 + 2.25 -> 53.25
B24: {=INDEX(Trad, R24, Lang)} -> Wichtig | D24: {=INDEX(Trad, S24, Lang)} -> Der Ersatz eines zentralen elektrischen konventionellen Warmwasseraufbereiters fällt nicht in den Anwendungsbereich dieser Massnahme. | R24: 112 | S24: 153 | Z24: 10 | AA24: 2 | AB24: =12.75*AA24 + 2.25 -> 27.75
B26: {="2. " & INDEX(Trad, R26, Lang)} -> 2. Anforderungen | R26: 114 | Z26: 11 | AA26: - | AB26: 20 | AC26: Subtitel
B27: {=INDEX(Trad, R27, Lang)} -> Nur Massnahmen, welche die Anforderungen der Energieverordnung (SR 730.01; EnV) einhalten, können angerechnet werden. Die zusätzlichen Anforderungen an die technischen Eigenschaften sowie an die Umsetzung der Massnahme sind in der Tabelle 1 festgelegt. | R27: 115 | Z27: 10 | AA27: 3 | AB27: =12.75*AA27 + 2.25 -> 40.5
B29: {=INDEX(Trad, R29, Lang)} -> Tabelle 1: Anforderungen | R29: 116 | Z29: 8 | AA29: - | AB29: 15 | AC29: Tabellentitel
F30: {=INDEX(Trad, S30, Lang)} -> Altes System | L30: {=INDEX(Trad, T30, Lang)} -> Neues System | S30: 117 | T30: 118 | Z30: 10 | AA30: - | AB30: 20 | AC30: Subtitel
B31: {=INDEX(Trad, R31, Lang)} -> Technologie | F31: {=INDEX(Trad, S31, Lang)} -> Elektrischer konventioneller Einbau-Warmwasseraufbereiter* | L31: {=INDEX(Trad, T31, Lang)} -> Warmwasseraufbereiter oder Kombiheizgerät mit Wärmepumpe (WP)* | R31: 170 | S31: 171 | T31: 172 | Z31: 10 | AA31: 4 | AB31: =12.75*AA31 + 2.25 -> 53.25
B32: {=INDEX(Trad, R32, Lang)} -> Warmwasser-verteilsystem | F32: {=INDEX(Trad, S32, Lang)} -> Dezentral | L32: {=INDEX(Trad, T32, Lang)} -> Dezentral (Einzelaustausch) oder zentral (Gesamtsanierung) | R32: 185 | S32: 186 | T32: 187 | Z32: 10 | AA32: 3 | AB32: =12.75*AA32 + 2.25 -> 40.5
B33: {=INDEX(Trad, R33, Lang)} -> Energieträger | F33: {=INDEX(Trad, S33, Lang)} -> Elektrizität | L33: {=INDEX(Trad, T33, Lang)} -> Elektrizität mit mindestens 60 % Umgebungswärme | R33: 173 | S33: 174 | T33: 175 | Z33: 10 | AA33: 2 | AB33: =12.75*AA33 + 2.25 -> 27.75
B34: {=INDEX(Trad, R34, Lang)} -> Energieeffizienz | F34: {=INDEX(Trad, S34, Lang)} -> - | L34: {=INDEX(Trad, T34, Lang)} -> Die Wärmepumpe müssen mit einem gültigen EHPA-Gütesiegel zertifiziert sein. | R34: 176 | S34: 177 | T34: 178 | Z34: 10 | AA34: 3 | AB34: =12.75*AA34 + 2.25 -> 40.5
F35: {=INDEX(Trad, S35, Lang)} -> Altes / Neues System | S35: 119 | Z35: 10 | AA35: - | AB35: 20 | AC35: Subtitel
B36: {=INDEX(Trad, R36, Lang_measure)} -> #VALUE! | F36: {=INDEX(Trad, S36, Lang_measure)} -> #VALUE! | R36: 180 | S36: 181 | Z36: 10 | AA36: 2 | AB36: =12.75*AA36 + 2.25 -> 27.75 | AD36: Cacher les lines non-utilisées
B37: {=INDEX(Trad, R37, Lang_measure)} -> #VALUE! | F37: {=INDEX(Trad, S37, Lang_measure)} -> #VALUE! | R37: 182 | S37: 183 | Z37: 10 | AA37: 2 | AB37: =12.75*AA37 + 2.25 -> 27.75
B38: {=INDEX(Trad, R38, Lang_measure)} -> #VALUE! | F38: {=INDEX(Trad, S38, Lang_measure)} -> #VALUE! | R38: 184 | S38: 185 | Z38: 10 | AA38: 2 | AB38: =12.75*AA38 + 2.25 -> 27.75
B39: {=INDEX(Trad, R39, Lang_measure)} -> #VALUE! | F39: {=INDEX(Trad, S39, Lang_measure)} -> #VALUE! | R39: 186 | S39: 187 | Z39: 10 | AA39: 2 | AB39: =12.75*AA39 + 2.25 -> 27.75
B40: {=INDEX(Trad, R40, Lang)} -> Umsetzung | F40: {=INDEX(Trad, S40, Lang)} -> Der Ersatz und die Inbetriebnahme des neuen Systems müssen durch eine qualifizierte Fachperson oder Firma durchgeführt werden. | R40: 120 | S40: 121 | Z40: 10 | AA40: 2 | AB40: =12.75*AA40 + 2.25 -> 27.75
B41: {=INDEX(Trad, R41, Lang)} -> Entsorgung | F41: {=INDEX(Trad, S41, Lang)} -> Die verbrauchsrelevanten Komponenten der alten Geräte dürfen innerhalb der Schweiz nicht weiterbetrieben werden. Die fachgerechte Entsorgung oder die Ausfuhr muss auf Anfrage nachgewiesen werden können. | R41: 122 | S41: 123 | Z41: 10 | AA41: 2 | AB41: =12.75*AA41 + 2.25 -> 27.75
B42: {=IF(LEN(INDEX(Trad, R42, Lang))>0, "* " & INDEX(Trad, R42, Lang), "")} -> * gemäss Energieeffizienzverordnung (SR 730.02; Anhang 1.15 / 1.16 EnEV) | R42: 195 | Z42: 8 | AA42: - | AB42: 15 | AC42: Fussnote
B44: {="3. " & INDEX(Trad, R44, Lang)} -> 3. Nachweis | R44: 125 | Z44: 11 | AA44: - | AB44: 20 | AC44: Subtitel
B45: {=INDEX(Trad, R45, Lang)} -> Die Einhaltung der Anforderungen muss durch die folgenden Dokumente belegt werden. Die in der Tabelle 2 aufgeführten Unterlagen sind integraler Bestandteil des Nachweises der Massnahmenumsetzung. | R45: 126 | Z45: 10 | AA45: 2 | AB45: =12.75*AA45 + 2.25 -> 27.75
B47: {=INDEX(Trad, R47, Lang)} -> Tabelle 2: Nachweise | R47: 127 | Z47: 8 | AA47: - | AB47: 15 | AC47: Tabellentitel
B49: =IF(ISNUMBER(R49), X49 & ".", "") -> 1. | C49: {=IF(ISNUMBER(R49), INDEX(Trad, R49, Lang), "")} -> Erläuterung (Format PDF, max. 2 A4-Seiten), wie sichergestellt wird, dass die ersetzten Geräte fachgerecht entsorgt wurden (z. B. mittels Deklarationen, Entsorgungspositionen auf Unternehmerrechnungen, usw.). | R49: 129 | X49: 1 | Z49: 10 | AA49: 3 | AB49: =12.75*AA49 + 2.25 -> 40.5 | AD49: Les numéros du tableau peuvent être modifiées ici. Cacher les lines non-utilisées
...

Sheet B
B2: {=INDEX(Trad, 204, Lang)} -> Zurück zur Übersicht
B4: {=INDEX(Trad, 1, Lang)} -> Monitoringliste
B5: {=INDEX(Trad, 23, Lang)} -> Massnahme | D5: =measure_id -> HZ-01a
A6: § | B6: {=INDEX(Trad, 24, Lang)} -> Version | D6: =measure_version -> 2.10 (05.2026)
B7: {=INDEX(Trad, 34, Lang)} -> Jede Massnahme muss mit den gesamten Angaben vollständig erfasst werden (Pflichtfelder).
C8: {=INDEX(Trad, 7, Lang)} -> Eingabefeld (obligatorisch)
C9: {=INDEX(Trad, 18, Lang)} -> Eingabefeld (optional)
C10: {=INDEX(Trad, 17, Lang)} -> Mehrfachauswahlfeld (obligatorisch)
C11: {=INDEX(Trad, 8, Lang)} -> Berechnetetes Feld
C12: {=INDEX(Trad, 9, Lang)} -> Gesperrtes Feld
C13: {=INDEX(Trad, 19, Lang)} -> Eingabefehler
B15: {=INDEX(Trad, 27, Lang)} -> Elektrizitätslieferant | D15: Beispiel AG | F15: {=IF(ISBLANK(D15), INDEX(Trad, 30, Lang),"")}
B16: {=INDEX(Trad, 28, Lang) & "*"} -> Dateibezeichnung*
B17: {=INDEX(Trad, 26, Lang)} -> Einsparungen (gesamte) [kWh] | D17: =SUM(R28:R1027) -> 0
B18: {="* " & INDEX(Trad, 29, Lang)} -> * Hier können Sie den unternehmensinternen Dateinamen einfügen | J18: {="*"& INDEX(Trad, 46, Lang)} -> *eindeutige Identifikation, die es ermöglicht, auf einer frei zugänglichen Website die Anforderungen in Tabelle 1 zu prüfen
C20: {=INDEX(Trad, 2, Lang)} -> Standort | F20: {=INDEX(Trad, 37, Lang) & " / " & INDEX(Trad, 39, Lang)} -> Gebäude / Wohnung | J20: {=INDEX(Trad, 4, Lang)} -> Neue Anlage/Gerät | M20: {=INDEX(Trad, 5, Lang)} -> Firma, welche den Ersatz durchgeführt hat | Q20: {=INDEX(Trad, 21, Lang)} -> Einsparungen | T20: {=INDEX(Trad, 48, Lang)} -> Berechnungen
C21: {=INDEX(Trad, 12, Lang)} -> Adresse | D21: {=INDEX(Trad, 15, Lang)} -> PLZ | E21: {=INDEX(Trad, 10, Lang)} -> Gemeinde | F21: EGID | G21: {=INDEX(Trad, 38, Lang)} -> Gebäudekategorie | H21: {=INDEX(Trad, 57, Lang)} -> Bezugseinheit | J21: {=INDEX(Trad, 31, Lang) & "*"} -> Marke/Hersteller* | K21: {=INDEX(Trad, 32, Lang) & "*"} -> Kennzeichnung des Modells* | L21: {=INDEX(Trad, 45, Lang)} -> Technologie | M21: UID | N21: {=INDEX(Trad, 14, Lang)} -> Name | O21: {=INDEX(Trad, 15, Lang)} -> PLZ | P21: {=INDEX(Trad, 10, Lang)} -> Gemeinde | Q21: {=INDEX(Trad, 16, Lang)} -> Datum Inbetriebnahme | R21: {=INDEX(Trad, 21, Lang)} -> Einsparungen | T21: Helpers
T22: Eeco | U22: Cat. | V22: Nbr
A23: row | B23: Nr | C23: - | D23: - | E23: - | F23: - | G23: - | H23: - | I23: - | J23: - | K23: - | L23: - | M23: - | N23: - | O23: - | P23: - | Q23: - | R23: kWh | S23: col | T23: MWh | U23: - | V23: -
B24: {=INDEX(Trad, 99, Lang)} -> Beispiele | C24: Zentrumstrasse 15 | D24: 8915 | E24: =IF(ISBLANK(D24), "", VLOOKUP(D24, Z!$A$2:$C$4127, 3, FALSE)) -> Hausen am Albis | F24: 1445785 | G24: Wohnen MFH | H24: Wohnen MFH (Erstwohnungen) | I24: 12 | J24: ALPHA | K24: 123-ABC | L24: WP Luft (zentrale Verteilung) | M24: 123.456.789 | N24: Test AG | O24: 4500 | P24: =IF(ISBLANK(O24), "", VLOOKUP(O24, Z!$A$2:$C$4127, 3, FALSE)) -> Solothurn | Q24: 45789 | R24: =T24*1000 -> 156000 | T24: {=IFERROR(V24 * INDEX($AC$28:$AC$33, U24), 0) / 1000} -> 156 | U24: =IFERROR(MATCH($H24,INDEX(Units,,1),0),IFERROR(MATCH($H24,INDEX(Units,,2),0),IFERROR(MATCH($H24,INDEX(Units,,3),0),"-"))) -> 1 | V24: =I24 -> 12
C25: Rue du centre 8 | D25: 1275 | E25: =IF(ISBLANK(D25), "", VLOOKUP(D25, Z!$A$2:$C$4127, 3, FALSE)) -> Chéserex | F25: 1005565 | H25: Habitat collectif (résidences secondaires) | I25: 6 | J25: BETA | K25: 456-EDF | L25: Chauffe-eau thermodynamique (distribution décentralisée) | M25: 123.456.789 | N25: Test AG | O25: 4500 | P25: =IF(ISBLANK(O25), "", VLOOKUP(O25, Z!$A$2:$C$4127, 3, FALSE)) -> Solothurn | Q25: 45979 | R25: =T25*1000 -> 7800 | T25: {=IFERROR(V25 * INDEX($AC$28:$AC$33, U25), 0) / 1000} -> 7.8 | U25: =IFERROR(MATCH($H25,INDEX(Units,,1),0),IFERROR(MATCH($H25,INDEX(Units,,2),0),IFERROR(MATCH($H25,INDEX(Units,,3),0),"-"))) -> 2 | V25: =I25 -> 6
C26: Via centrale 5a | D26: 6715 | E26: =IF(ISBLANK(D26), "", VLOOKUP(D26, Z!$A$2:$C$4127, 3, FALSE)) -> Acquarossa | F26: 1247788 | H26: Ristorante / Caffè (sedie) | I26: 20 | J26: GAMMMA | K26: 789-GHI | L26: PdC, sonde geotermiche (distribuzione centralizzata) | M26: 123.456.789 | N26: Test AG | O26: 4500 | P26: =IF(ISBLANK(O26), "", VLOOKUP(O26, Z!$A$2:$C$4127, 3, FALSE)) -> Solothurn | Q26: 45845 | R26: =T26*1000 -> 46000 | T26: {=IFERROR(V26 * INDEX($AC$28:$AC$33, U26), 0) / 1000} -> 46 | U26: =IFERROR(MATCH($H26,INDEX(Units,,1),0),IFERROR(MATCH($H26,INDEX(Units,,2),0),IFERROR(MATCH($H26,INDEX(Units,,3),0),"-"))) -> 6 | V26: =I26 -> 20
B28: 1 | E28: =IF(ISBLANK(D28), "", VLOOKUP(D28, Z!$A$2:$C$4127, 3, FALSE)) | P28: =IF(ISBLANK(O28), "", VLOOKUP(O28, Z!$A$2:$C$4127, 3, FALSE)) | R28: =T28*1000 -> 0 | T28: {=IFERROR(V28 * INDEX($AC$28:$AC$33, U28), 0) / 1000} -> 0 | U28: =IFERROR(MATCH($H28,INDEX(Units,,1),0),IFERROR(MATCH($H28,INDEX(Units,,2),0),IFERROR(MATCH($H28,INDEX(Units,,3),0),"-"))) -> - | V28: =I28 -> 0 | X28: 1 | Y28: Wohnen MFH, Erstwohnung | AC28: 13000
B29: 2 | E29: =IF(ISBLANK(D29), "", VLOOKUP(D29, Z!$A$2:$C$4127, 3, FALSE)) | P29: =IF(ISBLANK(O29), "", VLOOKUP(O29, Z!$A$2:$C$4127, 3, FALSE)) | R29: =T29*1000 -> 0 | T29: {=IFERROR(V29 * INDEX($AC$28:$AC$33, U29), 0) / 1000} -> 0 | U29: =IFERROR(MATCH($H29,INDEX(Units,,1),0),IFERROR(MATCH($H29,INDEX(Units,,2),0),IFERROR(MATCH($H29,INDEX(Units,,3),0),"-"))) -> - | V29: =I29 -> 0 | X29: 2 | Y29: Wohnen MFH, Zweitwohnung | AC29: 1300
B30: 3 | E30: =IF(ISBLANK(D30), "", VLOOKUP(D30, Z!$A$2:$C$4127, 3, FALSE)) | P30: =IF(ISBLANK(O30), "", VLOOKUP(O30, Z!$A$2:$C$4127, 3, FALSE)) | R30: =T30*1000 -> 0 | T30: {=IFERROR(V30 * INDEX($AC$28:$AC$33, U30), 0) / 1000} -> 0 | U30: =IFERROR(MATCH($H30,INDEX(Units,,1),0),IFERROR(MATCH($H30,INDEX(Units,,2),0),IFERROR(MATCH($H30,INDEX(Units,,3),0),"-"))) -> - | V30: =I30 -> 0 | X30: 3 | Y30: Beherbergung / Hotel | AC30: 6200
B31: 4 | E31: =IF(ISBLANK(D31), "", VLOOKUP(D31, Z!$A$2:$C$4127, 3, FALSE)) | P31: =IF(ISBLANK(O31), "", VLOOKUP(O31, Z!$A$2:$C$4127, 3, FALSE)) | R31: =T31*1000 -> 0 | T31: {=IFERROR(V31 * INDEX($AC$28:$AC$33, U31), 0) / 1000} -> 0 | U31: =IFERROR(MATCH($H31,INDEX(Units,,1),0),IFERROR(MATCH($H31,INDEX(Units,,2),0),IFERROR(MATCH($H31,INDEX(Units,,3),0),"-"))) -> - | V31: =I31 -> 0 | X31: 4 | Y31: Bürogebäude | AC31: 400
B32: 5 | E32: =IF(ISBLANK(D32), "", VLOOKUP(D32, Z!$A$2:$C$4127, 3, FALSE)) | P32: =IF(ISBLANK(O32), "", VLOOKUP(O32, Z!$A$2:$C$4127, 3, FALSE)) | R32: =T32*1000 -> 0 | T32: {=IFERROR(V32 * INDEX($AC$28:$AC$33, U32), 0) / 1000} -> 0 | U32: =IFERROR(MATCH($H32,INDEX(Units,,1),0),IFERROR(MATCH($H32,INDEX(Units,,2),0),IFERROR(MATCH($H32,INDEX(Units,,3),0),"-"))) -> - | V32: =I32 -> 0 | X32: 5 | Y32: Kantine / Mensa | AC32: 1000
B33: 6 | E33: =IF(ISBLANK(D33), "", VLOOKUP(D33, Z!$A$2:$C$4127, 3, FALSE)) | P33: =IF(ISBLANK(O33), "", VLOOKUP(O33, Z!$A$2:$C$4127, 3, FALSE)) | R33: =T33*1000 -> 0 | T33: {=IFERROR(V33 * INDEX($AC$28:$AC$33, U33), 0) / 1000} -> 0 | U33: =IFERROR(MATCH($H33,INDEX(Units,,1),0),IFERROR(MATCH($H33,INDEX(Units,,2),0),IFERROR(MATCH($H33,INDEX(Units,,3),0),"-"))) -> - | V33: =I33 -> 0 | X33: 6 | Y33: Restaurant / Café | AC33: 2300
B34: 7 | E34: =IF(ISBLANK(D34), "", VLOOKUP(D34, Z!$A$2:$C$4127, 3, FALSE)) | P34: =IF(ISBLANK(O34), "", VLOOKUP(O34, Z!$A$2:$C$4127, 3, FALSE)) | R34: =T34*1000 -> 0 | T34: {=IFERROR(V34 * INDEX($AC$28:$AC$33, U34), 0) / 1000} -> 0 | U34: =IFERROR(MATCH($H34,INDEX(Units,,1),0),IFERROR(MATCH($H34,INDEX(Units,,2),0),IFERROR(MATCH($H34,INDEX(Units,,3),0),"-"))) -> - | V34: =I34 -> 0
B35: 8 | E35: =IF(ISBLANK(D35), "", VLOOKUP(D35, Z!$A$2:$C$4127, 3, FALSE)) | P35: =IF(ISBLANK(O35), "", VLOOKUP(O35, Z!$A$2:$C$4127, 3, FALSE)) | R35: =T35*1000 -> 0 | T35: {=IFERROR(V35 * INDEX($AC$28:$AC$33, U35), 0) / 1000} -> 0 | U35: =IFERROR(MATCH($H35,INDEX(Units,,1),0),IFERROR(MATCH($H35,INDEX(Units,,2),0),IFERROR(MATCH($H35,INDEX(Units,,3),0),"-"))) -> - | V35: =I35 -> 0 | X35: 1 | Y35: Habitat collectif, résidence principale | AC35: 13000
B36: 9 | E36: =IF(ISBLANK(D36), "", VLOOKUP(D36, Z!$A$2:$C$4127, 3, FALSE)) | P36: =IF(ISBLANK(O36), "", VLOOKUP(O36, Z!$A$2:$C$4127, 3, FALSE)) | R36: =T36*1000 -> 0 | T36: {=IFERROR(V36 * INDEX($AC$28:$AC$33, U36), 0) / 1000} -> 0 | U36: =IFERROR(MATCH($H36,INDEX(Units,,1),0),IFERROR(MATCH($H36,INDEX(Units,,2),0),IFERROR(MATCH($H36,INDEX(Units,,3),0),"-"))) -> - | V36: =I36 -> 0 | X36: 2 | Y36: Habitat collectif, résidence secondaire | AC36: 1300
B37: 10 | E37: =IF(ISBLANK(D37), "", VLOOKUP(D37, Z!$A$2:$C$4127, 3, FALSE)) | P37: =IF(ISBLANK(O37), "", VLOOKUP(O37, Z!$A$2:$C$4127, 3, FALSE)) | R37: =T37*1000 -> 0 | T37: {=IFERROR(V37 * INDEX($AC$28:$AC$33, U37), 0) / 1000} -> 0 | U37: =IFERROR(MATCH($H37,INDEX(Units,,1),0),IFERROR(MATCH($H37,INDEX(Units,,2),0),IFERROR(MATCH($H37,INDEX(Units,,3),0),"-"))) -> - | V37: =I37 -> 0 | X37: 3 | Y37: Hébergement / Hotel | AC37: 6200
B38: 11 | E38: =IF(ISBLANK(D38), "", VLOOKUP(D38, Z!$A$2:$C$4127, 3, FALSE)) | P38: =IF(ISBLANK(O38), "", VLOOKUP(O38, Z!$A$2:$C$4127, 3, FALSE)) | R38: =T38*1000 -> 0 | T38: {=IFERROR(V38 * INDEX($AC$28:$AC$33, U38), 0) / 1000} -> 0 | U38: =IFERROR(MATCH($H38,INDEX(Units,,1),0),IFERROR(MATCH($H38,INDEX(Units,,2),0),IFERROR(MATCH($H38,INDEX(Units,,3),0),"-"))) -> - | V38: =I38 -> 0 | X38: 4 | Y38: Bâtiment administratif | AC38: 400
B39: 12 | E39: =IF(ISBLANK(D39), "", VLOOKUP(D39, Z!$A$2:$C$4127, 3, FALSE)) | P39: =IF(ISBLANK(O39), "", VLOOKUP(O39, Z!$A$2:$C$4127, 3, FALSE)) | R39: =T39*1000 -> 0 | T39: {=IFERROR(V39 * INDEX($AC$28:$AC$33, U39), 0) / 1000} -> 0 | U39: =IFERROR(MATCH($H39,INDEX(Units,,1),0),IFERROR(MATCH($H39,INDEX(Units,,2),0),IFERROR(MATCH($H39,INDEX(Units,,3),0),"-"))) -> - | V39: =I39 -> 0 | X39: 5 | Y39: Cantine / Restaurant du personnel | AC39: 1000
B40: 13 | E40: =IF(ISBLANK(D40), "", VLOOKUP(D40, Z!$A$2:$C$4127, 3, FALSE)) | P40: =IF(ISBLANK(O40), "", VLOOKUP(O40, Z!$A$2:$C$4127, 3, FALSE)) | R40: =T40*1000 -> 0 | T40: {=IFERROR(V40 * INDEX($AC$28:$AC$33, U40), 0) / 1000} -> 0 | U40: =IFERROR(MATCH($H40,INDEX(Units,,1),0),IFERROR(MATCH($H40,INDEX(Units,,2),0),IFERROR(MATCH($H40,INDEX(Units,,3),0),"-"))) -> - | V40: =I40 -> 0 | X40: 6 | Y40: Restaurant / Café | AC40: 2300
B41: 14 | E41: =IF(ISBLANK(D41), "", VLOOKUP(D41, Z!$A$2:$C$4127, 3, FALSE)) | P41: =IF(ISBLANK(O41), "", VLOOKUP(O41, Z!$A$2:$C$4127, 3, FALSE)) | R41: =T41*1000 -> 0 | T41: {=IFERROR(V41 * INDEX($AC$28:$AC$33, U41), 0) / 1000} -> 0 | U41: =IFERROR(MATCH($H41,INDEX(Units,,1),0),IFERROR(MATCH($H41,INDEX(Units,,2),0),IFERROR(MATCH($H41,INDEX(Units,,3),0),"-"))) -> - | V41: =I41 -> 0
B42: 15 | E42: =IF(ISBLANK(D42), "", VLOOKUP(D42, Z!$A$2:$C$4127, 3, FALSE)) | P42: =IF(ISBLANK(O42), "", VLOOKUP(O42, Z!$A$2:$C$4127, 3, FALSE)) | R42: =T42*1000 -> 0 | T42: {=IFERROR(V42 * INDEX($AC$28:$AC$33, U42), 0) / 1000} -> 0 | U42: =IFERROR(MATCH($H42,INDEX(Units,,1),0),IFERROR(MATCH($H42,INDEX(Units,,2),0),IFERROR(MATCH($H42,INDEX(Units,,3),0),"-"))) -> - | V42: =I42 -> 0 | X42: 1 | Y42: Abitazione collettiva, residenza principale | AC42: 13000
B43: 16 | E43: =IF(ISBLANK(D43), "", VLOOKUP(D43, Z!$A$2:$C$4127, 3, FALSE)) | P43: =IF(ISBLANK(O43), "", VLOOKUP(O43, Z!$A$2:$C$4127, 3, FALSE)) | R43: =T43*1000 -> 0 | T43: {=IFERROR(V43 * INDEX($AC$28:$AC$33, U43), 0) / 1000} -> 0 | U43: =IFERROR(MATCH($H43,INDEX(Units,,1),0),IFERROR(MATCH($H43,INDEX(Units,,2),0),IFERROR(MATCH($H43,INDEX(Units,,3),0),"-"))) -> - | V43: =I43 -> 0 | X43: 2 | Y43: Abitazione collettiva, residenza secondaria | AC43: 1300
B44: 17 | E44: =IF(ISBLANK(D44), "", VLOOKUP(D44, Z!$A$2:$C$4127, 3, FALSE)) | P44: =IF(ISBLANK(O44), "", VLOOKUP(O44, Z!$A$2:$C$4127, 3, FALSE)) | R44: =T44*1000 -> 0 | T44: {=IFERROR(V44 * INDEX($AC$28:$AC$33, U44), 0) / 1000} -> 0 | U44: =IFERROR(MATCH($H44,INDEX(Units,,1),0),IFERROR(MATCH($H44,INDEX(Units,,2),0),IFERROR(MATCH($H44,INDEX(Units,,3),0),"-"))) -> - | V44: =I44 -> 0 | X44: 3 | Y44: Alloggio / Hotel | AC44: 6200
B45: 18 | E45: =IF(ISBLANK(D45), "", VLOOKUP(D45, Z!$A$2:$C$4127, 3, FALSE)) | P45: =IF(ISBLANK(O45), "", VLOOKUP(O45, Z!$A$2:$C$4127, 3, FALSE)) | R45: =T45*1000 -> 0 | T45: {=IFERROR(V45 * INDEX($AC$28:$AC$33, U45), 0) / 1000} -> 0 | U45: =IFERROR(MATCH($H45,INDEX(Units,,1),0),IFERROR(MATCH($H45,INDEX(Units,,2),0),IFERROR(MATCH($H45,INDEX(Units,,3),0),"-"))) -> - | V45: =I45 -> 0 | X45: 4 | Y45: Edificio amministrativo | AC45: 400
...

Sheet Y
A1: Sheet | B1: Nr | C1: D | D1: F | E1: I | F1: D | G1: F | H1: I
A2: Monitoring | B2: 1 | C2: Monitoringliste | D2: Liste de monitoring | E2: Lista di Monitoring
B3: 2 | C3: Standort | D3: Site | E3: Posizione
B4: 3 | C4: Alte Anlage/Gerät | D4: Ancienne installation/appareil | E4: Vecchio impianto/appareccho
B5: 4 | C5: Neue Anlage/Gerät | D5: Nouvelle installation/appareil | E5: Nuovo impianto/appareccho
B6: 5 | C6: Firma, welche den Ersatz durchgeführt hat | D6: Entreprise qui a effectué le remplacement | E6: Azienda che ha effettuato la sostituzione
B7: 6 | C7: Gesamt | D7: Total | E7: Totale
B8: 7 | C8: Eingabefeld (obligatorisch) | D8: Champ d'entrée (obligatoire) | E8: Campo di ingresso (obbligatorio)
B9: 8 | C9: Berechnetetes Feld | D9: Champ calculé | E9: Campo calcolato
B10: 9 | C10: Gesperrtes Feld | D10: Champ verrouillé | E10: Campo bloccato
B11: 10 | C11: Gemeinde | D11: Commune | E11: Commune
B12: 11 | C12: Ort | D12: Lieu | E12: Luogo
B13: 12 | C13: Adresse | D13: Adresse | E13: Indirizzo
B14: 13 | C14: Nr | D14: n° | E14: no
... B50: 49 | C50: Bemerekungen | D50: Commentaires | E50: Osservazioni
A51: Insérer ici tous les titres spécifiques à la mesure | B51: 50 | C51: Wohnen MFH (Erstwohnungen) | D51: Habitat collectif (résidences principales) | E51: Abitazioni plurifamiliari (residenze principale)
B52: 51 | C52: Wohnen MFH (Zweitwohnung) | D52: Habitat collectif (résidences secondaires) | E52: Abitazioni plurifamiliari (residenze secondarie)
B53: 52 | C53: Beherbergung / Hotel (Betten) | D53: Hôtel (lits) | E53: Albergo (letti)
B54: 53 | C54: Bürogebäude (Personen) | D54: Bâtiment administratif (personnes) | E54: Edificio amministrativo (persone)
B55: 54 | C55: Kantine / Mensa (Personen) | D55: Cantine / restaurant du personnel (personnes) | E55: Mensa / ristorante per il personale (persone)
B56: 55 | C56: Restaurant / Café (Sitzplätze) | D56: Restaurant / Café (sièges) | E56: Ristorante / Caffè (sedie)
B57: 56
B58: 57 | C58: Bezugseinheit | D58: Unité de consommation | E58: Unità di consumo
B59: 58
B60: 59
B61: 60 | C61: Wohnen MFH | D61: Habitat collectif | E61: Abitazioni plurifamiliari
B62: 61 | C62: Verwaltung | D62: Administration | E62: Amministrazione
B63: 62 | C63: Schulen | D63: Écoles | E63: Scuole
B64: 63 | C64: Verkauf | D64: Commerce | E64: Negozi
B65: 64 | C65: Restaurants | D65: Restauration | E65: Ristoranti
B66: 65 | C66: Versammlungslokale | D66: Lieux de rassemblement | E66: Locali pubblici
B67: 66 | C67: Spitäler | D67: Hôpitaux | E67: Ospedali
B68: 67 | C68: Industrie | D68: Industrie | E68: Industrie
B69: 68 | C69: Lager | D69: Dépôts | E69: Magazzini
B70: 69 | C70: Sportbauten | D70: Installations sportives | E70: Impianti sportivi
B71: 70 | C71: Hallenbäder | D71: Piscines couvertes | E71: Piscine coperte
B72: 71
B73: 72
B74: 73
B75: 74
...

Sheet Z
A1: PLZ | B1: Ortschaftsname | C1: Gemeindename | D1: Kantonskürzel | E1: Gemeinden | G1: ZIP4 | H1: CLIMATE_CODE | J1: Abbr. | K1: Station
A2: 8914 | B2: Aeugst am Albis | C2: Aeugst am Albis | D2: ZH | E2: {=_xlfn.UNIQUE(C2:C4112)} -> Aeugst am Albis | G2: 1000 | H2: PUY | J2: ABO | K2: Adelboden | L2: 6.1380822
A3: 8914 | B3: Aeugstertal | C3: Aeugst am Albis | D3: ZH | E3: Affoltern am Albis | G3: 1003 | H3: PUY | J3: AIG | K3: Aigle | L3: 10.096438
A4: 8909 | B4: Zwillikon | C4: Affoltern am Albis | D4: ZH | E4: Bonstetten | G4: 1004 | H4: PUY | J4: ALT | K4: Altdorf | L4: 9.9652055
A5: 8910 | B5: Affoltern am Albis | C5: Affoltern am Albis | D5: ZH | E5: Hausen am Albis | G5: 1005 | H5: PUY | J5: BAS | K5: Basel-Binningen | L5: 10.506027
A6: 8906 | B6: Bonstetten | C6: Bonstetten | D6: ZH | E6: Hedingen | G6: 1006 | H6: PUY | J6: BER | K6: Bern-Liebefeld | L6: 9.1572603
A7: 8915 | B7: Hausen am Albis | C7: Hausen am Albis | D7: ZH | E7: Kappel am Albis | G7: 1007 | H7: PUY | J7: BUS | K7: Buchs-Aarau | L7: 9.7084932
A8: 8925 | B8: Ebertswil | C8: Hausen am Albis | D8: ZH | E8: Knonau | G8: 1008 | H8: PUY | J8: CHU | K8: Chur | L8: 9.6657534
A9: 8908 | B9: Hedingen | C9: Hedingen | D9: ZH | E9: Maschwanden | G9: 1009 | H9: PUY | J9: DAV | K9: Davos | L9: 3.6249315
A10: 8926 | B10: Kappel am Albis | C10: Kappel am Albis | D10: ZH | E10: Mettmenstetten | G10: 1010 | H10: PUY | J10: DIS | K10: Disentis | L10: 6.7490411
A11: 8926 | B11: Hauptikon | C11: Kappel am Albis | D11: ZH | E11: Obfelden | G11: 1011 | H11: PUY | J11: ENG | K11: Engelberg | L11: 6.4224658
A12: 8926 | B12: Uerzlikon | C12: Kappel am Albis | D12: ZH | E12: Ottenbach | G12: 1012 | H12: PUY | J12: GVE | K12: Geneve-Cointrin | L12: 10.71589
A13: 8934 | B13: Knonau | C13: Knonau | D13: ZH | E13: Rifferswil | G13: 1015 | H13: PUY | J13: GLA | K13: Glarus | L13: 8.8164384
A14: 8933 | B14: Maschwanden | C14: Maschwanden | D14: ZH | E14: Stallikon | G14: 1018 | H14: PUY | J14: GSB | K14: Grand-St-Bernard | L14: -0.42876712
... A41: 8460 | B41: Marthalen | C41: Marthalen | D41: ZH | E41: Eglisau | G41: 1052 | H41: PUY | J41: SMA | K41: Zürich-MeteoSchweiz | L41: 9.3989041
A42: 8464 | B42: Ellikon am Rhein | C42: Marthalen | D42: ZH | E42: Embrach | G42: 1053 | H42: PUY
A43: 8475 | B43: Ossingen | C43: Ossingen | D43: ZH | E43: Freienstein-Teufen | G43: 1054 | H43: PUY
A44: 8462 | B44: Rheinau | C44: Rheinau | D44: ZH | E44: Glattfelden | G44: 1055 | H44: PUY
A45: 8478 | B45: Thalheim an der Thur | C45: Thalheim an der Thur | D45: ZH | E45: Hochfelden | G45: 1058 | H45: PUY
A46: 8465 | B46: Rudolfingen | C46: Trüllikon | D46: ZH | E46: Höri | G46: 1059 | H46: PUY
A47: 8465 | B47: Wildensbuch | C47: Trüllikon | D47: ZH | E47: Hüntwangen | G47: 1061 | H47: PUY
A48: 8466 | B48: Trüllikon | C48: Trüllikon | D48: ZH | E48: Kloten | G48: 1062 | H48: PAY
A49: 8467 | B49: Truttikon | C49: Truttikon | D49: ZH | E49: Lufingen | G49: 1063 | H49: PAY
A50: 8459 | B50: Volken | C50: Volken | D50: ZH | E50: Nürensdorf | G50: 1066 | H50: PUY
A51: 8184 | B51: Bachenbülach | C51: Bachenbülach | D51: ZH | E51: Oberembrach | G51: 1068 | H51: PUY
A52: 8303 | B52: Bassersdorf | C52: Bassersdorf | D52: ZH | E52: Opfikon | G52: 1070 | H52: PUY
A53: 8180 | B53: Bülach | C53: Bülach | D53: ZH | E53: Rafz | G53: 1071 | H53: PUY
... A2147: 7015 | B2147: Tamins | C2147: Tamins | D2147: GR | E2147: Vaduz | G2147: 6809 | H2147: MAG
A2148: 7014 | B2148: Trin | C2148: Trin | D2148: GR | G2148: 6810 | H2148: MAG
A2149: 7016 | B2149: Trin Mulin | C2149: Trin | D2149: GR | G2149: 6814 | H2149: LUG
A2150: 7527 | B2150: Brail | C2150: Zernez | D2150: GR | G2150: 6815 | H2150: LUG
A2151: 7530 | B2151: Zernez | C2151: Zernez | D2151: GR | G2151: 6816 | H2151: LUG
A2152: 7542 | B2152: Susch | C2152: Zernez | D2152: GR | G2152: 6817 | H2152: LUG
A2153: 7543 | B2153: Lavin | C2153: Zernez | D2153: GR | G2153: 6818 | H2153: LUG
A2154: 7562 | B2154: Samnaun-Compatsch | C2154: Samnaun | D2154: GR | G2154: 6821 | H2154: LUG
A2155: 7563 | B2155: Samnaun Dorf | C2155: Samnaun | D2155: GR | G2155: 6822 | H2155: LUG
A2156: 7545 | B2156: Guarda | C2156: Scuol | D2156: GR | G2156: 6823 | H2156: LUG
A2157: 7546 | B2157: Ardez | C2157: Scuol | D2157: GR | G2157: 6825 | H2157: LUG
A2158: 7550 | B2158: Scuol | C2158: Scuol | D2158: GR | G2158: 6826 | H2158: LUG
A2159: 7551 | B2159: Ftan | C2159: Scuol | D2159: GR | G2159: 6827 | H2159: LUG
...
